BEGIN:VCALENDAR
VERSION:2.0
X-WR-CALNAME:EventsCalendar
CALSCALE:GREGORIAN
BEGIN:VTIMEZONE
TZID:America/Chicago
LAST-MODIFIED:20231222T233358Z
TZURL:https://www.tzurl.org/zoneinfo-outlook/America/Chicago
X-LIC-LOCATION:America/Chicago
BEGIN:DAYLIGHT
TZNAME:CDT
TZOFFSETFROM:-0600
TZOFFSETTO:-0500
DTSTART:19700308T020000
RRULE:FREQ=YEARLY;BYMONTH=3;BYDAY=2SU
END:DAYLIGHT
BEGIN:STANDARD
TZNAME:CST
TZOFFSETFROM:-0500
TZOFFSETTO:-0600
DTSTART:19701101T020000
RRULE:FREQ=YEARLY;BYMONTH=11;BYDAY=1SU
END:STANDARD
END:VTIMEZONE
BEGIN:VEVENT
CATEGORIES:Category,Seminars and Speakers,Location,Eastfield,Tag,Military-Connected Services
DESCRIPTION:Ready to gain the tools needed to empower you in your transition alongside other veterans? If so, we are excited to roll out our pilot small-group discussion lunch and learn series. Join us for 12 themed, in-person discussions. We are capping the first-ever cohort to 10, so spots are limited!&amp;nbsp;RSVP today to lock in. Location: All sessions will be held at Eastfield Campus in the Military-Connected Services suite, Room B1506.135430
DTSTAMP:20260422T183727
DTSTART;TZID=America/Chicago:20251219T120000
DTEND;TZID=America/Chicago:20251219T130000
LOCATION:Eastfield
SUMMARY;LANGUAGE=en-us:Veteran Wellness Lunch and Learn Series
UID:00c883a98e7bf9863b6e1df422d133dc@www.dallascollege.edu
END:VEVENT
BEGIN:VEVENT
CATEGORIES:Category,Seminars and Speakers,Location,Eastfield,Tag,Military-Connected Services
DESCRIPTION:Ready to gain the tools needed to empower you in your transition alongside other veterans? If so, we are excited to roll out our pilot small-group discussion lunch and learn series. Join us for 12 themed, in-person discussions. We are capping the first-ever cohort to 10, so spots are limited!&amp;nbsp;RSVP today to lock in. Location: All sessions will be held at Eastfield Campus in the Military-Connected Services suite, Room B1506.135430
DTSTAMP:20260422T183727
DTSTART;TZID=America/Chicago:20260109T120000
DTEND;TZID=America/Chicago:20260109T130000
LOCATION:Eastfield
SUMMARY;LANGUAGE=en-us:Veteran Wellness Lunch and Learn Series
UID:590451c3ae247904cabd90ab6c7d9ffb@www.dallascollege.edu
END:VEVENT
BEGIN:VEVENT
CATEGORIES:Category,Seminars and Speakers,Location,Eastfield,Tag,Military-Connected Services
DESCRIPTION:Ready to gain the tools needed to empower you in your transition alongside other veterans? If so, we are excited to roll out our pilot small-group discussion lunch and learn series. Join us for 12 themed, in-person discussions. We are capping the first-ever cohort to 10, so spots are limited!&amp;nbsp;RSVP today to lock in. Location: All sessions will be held at Eastfield Campus in the Military-Connected Services suite, Room B1506.135430
DTSTAMP:20260422T183727
DTSTART;TZID=America/Chicago:20260126T120000
DTEND;TZID=America/Chicago:20260126T130000
LOCATION:Eastfield
SUMMARY;LANGUAGE=en-us:Veteran Wellness Lunch and Learn Series
UID:5a43a98d4f3fcaea151f0c04bce38a5c@www.dallascollege.edu
END:VEVENT
BEGIN:VEVENT
CATEGORIES:Category,Seminars and Speakers,Location,Eastfield,Tag,Military-Connected Services
DESCRIPTION:Ready to gain the tools needed to empower you in your transition alongside other veterans? If so, we are excited to roll out our pilot small-group discussion lunch and learn series. Join us for 12 themed, in-person discussions. We are capping the first-ever cohort to 10, so spots are limited!&amp;nbsp;RSVP today to lock in. Location: All sessions will be held at Eastfield Campus in the Military-Connected Services suite, Room B1506.135430
DTSTAMP:20260422T183727
DTSTART;TZID=America/Chicago:20260216T120000
DTEND;TZID=America/Chicago:20260216T130000
LOCATION:Eastfield
SUMMARY;LANGUAGE=en-us:Veteran Wellness Lunch and Learn Series
UID:2ab48a5619b5712259962af0ed2014cb@www.dallascollege.edu
END:VEVENT
END:VCALENDAR
