BEGIN:VCALENDAR
VERSION:2.0
X-WR-CALNAME:EventsCalendar
CALSCALE:GREGORIAN
BEGIN:VTIMEZONE
TZID:America/Chicago
LAST-MODIFIED:20231222T233358Z
TZURL:https://www.tzurl.org/zoneinfo-outlook/America/Chicago
X-LIC-LOCATION:America/Chicago
BEGIN:DAYLIGHT
TZNAME:CDT
TZOFFSETFROM:-0600
TZOFFSETTO:-0500
DTSTART:19700308T020000
RRULE:FREQ=YEARLY;BYMONTH=3;BYDAY=2SU
END:DAYLIGHT
BEGIN:STANDARD
TZNAME:CST
TZOFFSETFROM:-0500
TZOFFSETTO:-0600
DTSTART:19701101T020000
RRULE:FREQ=YEARLY;BYMONTH=11;BYDAY=1SU
END:STANDARD
END:VTIMEZONE
BEGIN:VEVENT
CATEGORIES:Category,Seminars and Speakers,Location,All Seven Campuses,Tag,Learning Commons ,Tag,Student Resources
DESCRIPTION:Learn how to evaluate your interests, values and abilities. What do you dream of doing for work? What contributions would you like to make to society? This workshop will help prioritize these answers and help you formulate an academic plan for your desired career path. Your journey begins here at Dallas College with a program of study. We can assist you in selecting the appropriate program of study to help you reach your career goals. During the session, you will also learn how to use online tools to research careers that match your values, goals and skills. Register today! Locations: Brookhaven - L376 Cedar Valley - C104 Eastfield - L208 El Centro - B209 Mountain View - W145 North Lake - L236 Richland - L126135469
DTSTAMP:20260422T182054
DTSTART;TZID=America/Chicago:20260202T110000
DTEND;TZID=America/Chicago:20260202T120000
LOCATION:All Seven Campuses
SUMMARY;LANGUAGE=en-us:Level Up Your College Journey - Connecting Purpose With Program of Study
UID:159a86353cacce44ee7186b741475a31@www.dallascollege.edu
END:VEVENT
BEGIN:VEVENT
CATEGORIES:Category,Seminars and Speakers,Location,All Seven Campuses,Tag,Learning Commons ,Tag,Student Resources
DESCRIPTION:Learn how to evaluate your interests, values and abilities. What do you dream of doing for work? What contributions would you like to make to society? This workshop will help prioritize these answers and help you formulate an academic plan for your desired career path. Your journey begins here at Dallas College with a program of study. We can assist you in selecting the appropriate program of study to help you reach your career goals. During the session, you will also learn how to use online tools to research careers that match your values, goals and skills. Register today! Locations: Brookhaven - L376 Cedar Valley - C104 Eastfield - L208 El Centro - B209 Mountain View - W145 North Lake - L236 Richland - L126135469
DTSTAMP:20260422T182054
DTSTART;TZID=America/Chicago:20260205T110000
DTEND;TZID=America/Chicago:20260205T120000
LOCATION:All Seven Campuses
SUMMARY;LANGUAGE=en-us:Level Up Your College Journey - Connecting Purpose With Program of Study
UID:7442e975b407d027cc46e31c828dc097@www.dallascollege.edu
END:VEVENT
BEGIN:VEVENT
CATEGORIES:Category,Seminars and Speakers,Location,All Seven Campuses,Tag,Learning Commons ,Tag,Student Resources
DESCRIPTION:Learn how to evaluate your interests, values and abilities. What do you dream of doing for work? What contributions would you like to make to society? This workshop will help prioritize these answers and help you formulate an academic plan for your desired career path. Your journey begins here at Dallas College with a program of study. We can assist you in selecting the appropriate program of study to help you reach your career goals. During the session, you will also learn how to use online tools to research careers that match your values, goals and skills. Register today! Locations: Brookhaven - L376 Cedar Valley - C104 Eastfield - L208 El Centro - B209 Mountain View - W145 North Lake - L236 Richland - L126135469
DTSTAMP:20260422T182054
DTSTART;TZID=America/Chicago:20260205T180000
DTEND;TZID=America/Chicago:20260205T190000
LOCATION:All Seven Campuses
SUMMARY;LANGUAGE=en-us:Level Up Your College Journey - Connecting Purpose With Program of Study
UID:27690e6318b51460f4c3432728733496@www.dallascollege.edu
END:VEVENT
END:VCALENDAR
