BEGIN:VCALENDAR
VERSION:2.0
X-WR-CALNAME:EventsCalendar
CALSCALE:GREGORIAN
BEGIN:VTIMEZONE
TZID:America/Chicago
LAST-MODIFIED:20231222T233358Z
TZURL:https://www.tzurl.org/zoneinfo-outlook/America/Chicago
X-LIC-LOCATION:America/Chicago
BEGIN:DAYLIGHT
TZNAME:CDT
TZOFFSETFROM:-0600
TZOFFSETTO:-0500
DTSTART:19700308T020000
RRULE:FREQ=YEARLY;BYMONTH=3;BYDAY=2SU
END:DAYLIGHT
BEGIN:STANDARD
TZNAME:CST
TZOFFSETFROM:-0500
TZOFFSETTO:-0600
DTSTART:19701101T020000
RRULE:FREQ=YEARLY;BYMONTH=11;BYDAY=1SU
END:STANDARD
END:VTIMEZONE
BEGIN:VEVENT
CATEGORIES:Category,Seminars and Speakers,Location,All Seven Campuses,Tag,Learning Commons ,Tag,Student Resources
DESCRIPTION:Learn how to evaluate your interests, values, and abilities. What do you dream of doing for work? What contributions would you like to make to society? This workshop will help prioritize these answers and help you formulate an academic plan for the desired career path. Your journey begins here at Dallas College with a program of study. We can assist you in selecting the appropriate program of study to accommodate your perceived purpose and career goals. During the session, you will also learn how to utilize online platforms to research career alignment with individual values, goals, and needed skills.&amp;nbsp; *Prizes and treats are provided for all participants. This will take place during the week after the Learning Commons Open House. Register&amp;nbsp;today! Locations: Brookhaven - L376 Cedar Valley - C104 Eastfield - L208 El Centro - B209 Mountain View - W145 North Lake - L236 Richland - L126135475
DTSTAMP:20260422T182049
DTSTART;TZID=America/Chicago:20250918T180000
DTEND;TZID=America/Chicago:20250918T190000
LOCATION:All Seven Campuses
SUMMARY;LANGUAGE=en-us:Level Up Your College Journey - Connecting Purpose with Program of Study
UID:ce5da4837cc54ba746c3b1ca134f40f1@www.dallascollege.edu
END:VEVENT
END:VCALENDAR
