BEGIN:VCALENDAR
VERSION:2.0
X-WR-CALNAME:EventsCalendar
CALSCALE:GREGORIAN
BEGIN:VTIMEZONE
TZID:America/Chicago
LAST-MODIFIED:20231222T233358Z
TZURL:https://www.tzurl.org/zoneinfo-outlook/America/Chicago
X-LIC-LOCATION:America/Chicago
BEGIN:DAYLIGHT
TZNAME:CDT
TZOFFSETFROM:-0600
TZOFFSETTO:-0500
DTSTART:19700308T020000
RRULE:FREQ=YEARLY;BYMONTH=3;BYDAY=2SU
END:DAYLIGHT
BEGIN:STANDARD
TZNAME:CST
TZOFFSETFROM:-0500
TZOFFSETTO:-0600
DTSTART:19701101T020000
RRULE:FREQ=YEARLY;BYMONTH=11;BYDAY=1SU
END:STANDARD
END:VTIMEZONE
BEGIN:VEVENT
CATEGORIES:Category,Seminars and Speakers,Location,All Seven Campuses,Tag,Learning Commons ,Tag,Student Resources
DESCRIPTION:In the GPA workshop, you learn how GPA impacts Academic Standing and discover clever ways to boost GPA. GPA is crucial for transfer and scholarship planning. We will examine hypothetical student scenarios for calculating GPA and provide feedback for each case. You will have an opportunity to share strategies, make suggestions, and ask questions before planning your own SMART goals and GPA improvement plan. We want you to strive for excellence!&amp;nbsp; *Prizes and treats are provided for all participants. This event is concurrent with Success Coaching class visits. Register&amp;nbsp;today! Locations: Brookhaven - L376 Cedar Valley - C104 Eastfield - L208 El Centro - B209 Mountain View - W145 North Lake - L236 Richland - L126 135478
DTSTAMP:20260423T023803
DTSTART;TZID=America/Chicago:20250922T110000
DTEND;TZID=America/Chicago:20250922T120000
LOCATION:All Seven Campuses
SUMMARY;LANGUAGE=en-us:Level Up Your College Journey - GPA Calculator and Planning
UID:400c397c58961a8dda1ef82961846104@www.dallascollege.edu
END:VEVENT
END:VCALENDAR
