BEGIN:VCALENDAR
VERSION:2.0
X-WR-CALNAME:EventsCalendar
CALSCALE:GREGORIAN
BEGIN:VTIMEZONE
TZID:America/Chicago
LAST-MODIFIED:20231222T233358Z
TZURL:https://www.tzurl.org/zoneinfo-outlook/America/Chicago
X-LIC-LOCATION:America/Chicago
BEGIN:DAYLIGHT
TZNAME:CDT
TZOFFSETFROM:-0600
TZOFFSETTO:-0500
DTSTART:19700308T020000
RRULE:FREQ=YEARLY;BYMONTH=3;BYDAY=2SU
END:DAYLIGHT
BEGIN:STANDARD
TZNAME:CST
TZOFFSETFROM:-0500
TZOFFSETTO:-0600
DTSTART:19701101T020000
RRULE:FREQ=YEARLY;BYMONTH=11;BYDAY=1SU
END:STANDARD
END:VTIMEZONE
BEGIN:VEVENT
CATEGORIES:Category,Career Events/Job Fairs,Category,Student Life,Category,University Recruiting/Transfer Events,Location,Eastfield,Tag,Hispanic Heritage Month ,Tag,Intercultural/Global Events 
DESCRIPTION:Explore how culture and identity intersect with career development. These sessions offer insights into social justice in education and the workplace, and provide opportunities to build your professional portfolio and apply your learning in real time. Location:Eastfield - C135135884
DTSTAMP:20260422T181958
DTSTART;TZID=America/Chicago:20251015T110000
DTEND;TZID=America/Chicago:20251015T120000
LOCATION:Eastfield
SUMMARY;LANGUAGE=en-us:Hispanic Heritage Month Intercultural Career Days
UID:4a8da19115fe461a1ff4e94e78b2495f@www.dallascollege.edu
END:VEVENT
END:VCALENDAR
