BEGIN:VCALENDAR
VERSION:2.0
X-WR-CALNAME:EventsCalendar
CALSCALE:GREGORIAN
BEGIN:VTIMEZONE
TZID:America/Chicago
LAST-MODIFIED:20231222T233358Z
TZURL:https://www.tzurl.org/zoneinfo-outlook/America/Chicago
X-LIC-LOCATION:America/Chicago
BEGIN:DAYLIGHT
TZNAME:CDT
TZOFFSETFROM:-0600
TZOFFSETTO:-0500
DTSTART:19700308T020000
RRULE:FREQ=YEARLY;BYMONTH=3;BYDAY=2SU
END:DAYLIGHT
BEGIN:STANDARD
TZNAME:CST
TZOFFSETFROM:-0500
TZOFFSETTO:-0600
DTSTART:19701101T020000
RRULE:FREQ=YEARLY;BYMONTH=11;BYDAY=1SU
END:STANDARD
END:VTIMEZONE
BEGIN:VEVENT
CATEGORIES:Category,Board of Trustees,Location,Administrative Office,Tag,Board of Trustees
DESCRIPTION:The Board of Trustees will hold a regular board meeting on Oct. 7, 2025. October 7, 2025 Regular Meeting Agenda (PDF - 2MB) Meeting Room Details: Lower Level Floor, #036 View the Board of Trustee website. Agendas, captioned video, and transcripts from past Dallas College board meetings.135908
DTSTAMP:20260422T163529
DTSTART;TZID=America/Chicago:20251007T160000
DTEND;TZID=America/Chicago:20251007T170000
LOCATION:Administrative Office
SUMMARY;LANGUAGE=en-us:October Board Meeting - Regular
UID:025af9ea244b2c151bf169f5ef378f26@www.dallascollege.edu
END:VEVENT
END:VCALENDAR
