BEGIN:VCALENDAR
VERSION:2.0
X-WR-CALNAME:EventsCalendar
CALSCALE:GREGORIAN
BEGIN:VTIMEZONE
TZID:America/Chicago
LAST-MODIFIED:20231222T233358Z
TZURL:https://www.tzurl.org/zoneinfo-outlook/America/Chicago
X-LIC-LOCATION:America/Chicago
BEGIN:DAYLIGHT
TZNAME:CDT
TZOFFSETFROM:-0600
TZOFFSETTO:-0500
DTSTART:19700308T020000
RRULE:FREQ=YEARLY;BYMONTH=3;BYDAY=2SU
END:DAYLIGHT
BEGIN:STANDARD
TZNAME:CST
TZOFFSETFROM:-0500
TZOFFSETTO:-0600
DTSTART:19701101T020000
RRULE:FREQ=YEARLY;BYMONTH=11;BYDAY=1SU
END:STANDARD
END:VTIMEZONE
BEGIN:VEVENT
CATEGORIES:Category,Student Life,Location,Brookhaven,Tag,Intercultural/Global Events 
DESCRIPTION:The Office of Intercultural and Global Student Engagement invites international and ESOL students to join us for a Global Student Engagement Welcome Session for those admitted for the Spring, Summer or Fall 2025 semester. Learn about campus and community resources and meet other F-1 international and ESOL students, administrators and staff who understand your experiences. All Dallas College students are welcome to join us. Lunch and giveaways will be provided at the in-person sessions. Please&amp;nbsp;register for the welcome session by Sept. 9. Location: Brookhaven Campus, Room H125139622
DTSTAMP:20260422T181807
DTSTART;TZID=America/Chicago:20250925T113000
DTEND;TZID=America/Chicago:20250925T130000
LOCATION:Brookhaven
SUMMARY;LANGUAGE=en-us:Global Student Engagement Welcome Session
UID:80ad829406287b7d48d7917d44ea30ec@www.dallascollege.edu
END:VEVENT
END:VCALENDAR
