BEGIN:VCALENDAR
VERSION:2.0
X-WR-CALNAME:EventsCalendar
CALSCALE:GREGORIAN
BEGIN:VTIMEZONE
TZID:America/Chicago
LAST-MODIFIED:20231222T233358Z
TZURL:https://www.tzurl.org/zoneinfo-outlook/America/Chicago
X-LIC-LOCATION:America/Chicago
BEGIN:DAYLIGHT
TZNAME:CDT
TZOFFSETFROM:-0600
TZOFFSETTO:-0500
DTSTART:19700308T020000
RRULE:FREQ=YEARLY;BYMONTH=3;BYDAY=2SU
END:DAYLIGHT
BEGIN:STANDARD
TZNAME:CST
TZOFFSETFROM:-0500
TZOFFSETTO:-0600
DTSTART:19701101T020000
RRULE:FREQ=YEARLY;BYMONTH=11;BYDAY=1SU
END:STANDARD
END:VTIMEZONE
BEGIN:VEVENT
CATEGORIES:Category,Student Life,Location,Richland,Tag,Health and Well-Being Events,Tag,Richland
DESCRIPTION:Giddy up to the Red Ribbon Roundup an event bringing together campus and community resources to raise awareness about alcohol and other drugs during October for National Substance Use Prevention Month. Students can explore tables, take part in interactive activities, and learn practical tips for staying safe and making healthy choices. More than just an event, the roundup is an opportunity to learn, connect, and walk away with information that can make a difference. Don&amp;rsquo;t miss your chance to round up your friends and discover how prevention can be both exciting and rewarding. &amp;nbsp;Join us in the effort to build a safer, healthier campus community! Location: Richland Campus El Paso Hallway &amp;nbsp;139644
DTSTAMP:20260422T233056
DTSTART;TZID=America/Chicago:20251016T110000
DTEND;TZID=America/Chicago:20251016T130000
LOCATION:Richland
SUMMARY;LANGUAGE=en-us:Red Ribbon Round up at Richland
UID:16e260cc390a35b9f4d519dc44e711b8@www.dallascollege.edu
END:VEVENT
END:VCALENDAR
