BEGIN:VCALENDAR
VERSION:2.0
X-WR-CALNAME:EventsCalendar
CALSCALE:GREGORIAN
BEGIN:VTIMEZONE
TZID:America/Chicago
LAST-MODIFIED:20231222T233358Z
TZURL:https://www.tzurl.org/zoneinfo-outlook/America/Chicago
X-LIC-LOCATION:America/Chicago
BEGIN:DAYLIGHT
TZNAME:CDT
TZOFFSETFROM:-0600
TZOFFSETTO:-0500
DTSTART:19700308T020000
RRULE:FREQ=YEARLY;BYMONTH=3;BYDAY=2SU
END:DAYLIGHT
BEGIN:STANDARD
TZNAME:CST
TZOFFSETFROM:-0500
TZOFFSETTO:-0600
DTSTART:19701101T020000
RRULE:FREQ=YEARLY;BYMONTH=11;BYDAY=1SU
END:STANDARD
END:VTIMEZONE
BEGIN:VEVENT
CATEGORIES:Category,Seminars and Speakers,Location,Eastfield,Location,Online,Tag,Learning Commons 
DESCRIPTION:Get ready to level up your math game this fall with Math Not Madness. From Sept. 9 to Dec. 8, Dallas College students are invited to attend a mix of in-person and virtual workshops designed to build confidence in math&amp;mdash;whether you&#039;re tackling fractions, mastering your calculator or prepping for finals. These workshops are exclusively for currently enrolled students. All in-person sessions will take place at the Eastfield Campus in Room L207, while virtual events are open to students across all campuses. No stress, no madness&amp;mdash;just math made manageable. Register here&amp;nbsp;today!&amp;nbsp; Who will cover it? Dr. Alla Kelman (Lead Faculty) Location:&amp;nbsp; Eastfield Campus, Room L207 Online via&amp;nbsp;Microsoft Teams140331
DTSTAMP:20260422T180445
DTSTART;TZID=America/Chicago:20250922T123000
DTEND;TZID=America/Chicago:20250922T133000
LOCATION:Eastfield, Online
SUMMARY;LANGUAGE=en-us:Math Not Madness: Fractions II - Solving Equations with Rational Expressions
UID:1e3222366a0b34c3b987035329b844ea@www.dallascollege.edu
END:VEVENT
END:VCALENDAR
