BEGIN:VCALENDAR
VERSION:2.0
X-WR-CALNAME:EventsCalendar
CALSCALE:GREGORIAN
BEGIN:VTIMEZONE
TZID:America/Chicago
LAST-MODIFIED:20231222T233358Z
TZURL:https://www.tzurl.org/zoneinfo-outlook/America/Chicago
X-LIC-LOCATION:America/Chicago
BEGIN:DAYLIGHT
TZNAME:CDT
TZOFFSETFROM:-0600
TZOFFSETTO:-0500
DTSTART:19700308T020000
RRULE:FREQ=YEARLY;BYMONTH=3;BYDAY=2SU
END:DAYLIGHT
BEGIN:STANDARD
TZNAME:CST
TZOFFSETFROM:-0500
TZOFFSETTO:-0600
DTSTART:19701101T020000
RRULE:FREQ=YEARLY;BYMONTH=11;BYDAY=1SU
END:STANDARD
END:VTIMEZONE
BEGIN:VEVENT
CATEGORIES:Category,Arts and Culture,Location,North Lake,Tag,Music
DESCRIPTION:Join us for an enchanting evening presented by the North Lake Music Department, featuring a stunning instrumental concert in our beautiful performance hall. Enjoy an unforgettable night of music, talent, and atmosphere &amp;mdash; and best of all, admission is completely free! Location: North Lake Campus, Bldg. P, Room P302 (Performance Hall) 140505
DTSTAMP:20260422T152947
DTSTART;TZID=America/Chicago:20251113T190000
DTEND;TZID=America/Chicago:20251113T203000
LOCATION:North Lake
SUMMARY;LANGUAGE=en-us:Instrumental Concert
UID:7df9f4bbbcb8a353eb230070983ca182@www.dallascollege.edu
END:VEVENT
END:VCALENDAR
