BEGIN:VCALENDAR
VERSION:2.0
X-WR-CALNAME:EventsCalendar
CALSCALE:GREGORIAN
BEGIN:VTIMEZONE
TZID:America/Chicago
LAST-MODIFIED:20231222T233358Z
TZURL:https://www.tzurl.org/zoneinfo-outlook/America/Chicago
X-LIC-LOCATION:America/Chicago
BEGIN:DAYLIGHT
TZNAME:CDT
TZOFFSETFROM:-0600
TZOFFSETTO:-0500
DTSTART:19700308T020000
RRULE:FREQ=YEARLY;BYMONTH=3;BYDAY=2SU
END:DAYLIGHT
BEGIN:STANDARD
TZNAME:CST
TZOFFSETFROM:-0500
TZOFFSETTO:-0600
DTSTART:19701101T020000
RRULE:FREQ=YEARLY;BYMONTH=11;BYDAY=1SU
END:STANDARD
END:VTIMEZONE
BEGIN:VEVENT
CATEGORIES:Category,Resources,Location,Mountain View,Tag,Student Resources
DESCRIPTION:Juggling everyday life and college can be tough, but you don&amp;rsquo;t have to do it alone. Learn about resources that can assist you with housing, child care, groceries, transportation and more. We&amp;rsquo;ll have tables with Dallas College and local community resources. Get the information you need from organizations that can provide you and your family with assistance, advice and support. Two Days and Two Locations: Tuesday, Oct. 7 - Mountain View Campus, Tree Top Lounge, Room W-136) Monday, Oct. 13 - North Lake Campus, H Building, Room H-200 Register Today140569
DTSTAMP:20260422T161229
DTSTART;TZID=America/Chicago:20251007T110000
DTEND;TZID=America/Chicago:20251007T130000
LOCATION:Mountain View
SUMMARY;LANGUAGE=en-us:Getting Connected Resource Fair
UID:f0601a7e6f55f136688024604108340c@www.dallascollege.edu
END:VEVENT
END:VCALENDAR
