BEGIN:VCALENDAR
VERSION:2.0
X-WR-CALNAME:EventsCalendar
CALSCALE:GREGORIAN
BEGIN:VTIMEZONE
TZID:America/Chicago
LAST-MODIFIED:20231222T233358Z
TZURL:https://www.tzurl.org/zoneinfo-outlook/America/Chicago
X-LIC-LOCATION:America/Chicago
BEGIN:DAYLIGHT
TZNAME:CDT
TZOFFSETFROM:-0600
TZOFFSETTO:-0500
DTSTART:19700308T020000
RRULE:FREQ=YEARLY;BYMONTH=3;BYDAY=2SU
END:DAYLIGHT
BEGIN:STANDARD
TZNAME:CST
TZOFFSETFROM:-0500
TZOFFSETTO:-0600
DTSTART:19701101T020000
RRULE:FREQ=YEARLY;BYMONTH=11;BYDAY=1SU
END:STANDARD
END:VTIMEZONE
BEGIN:VEVENT
CATEGORIES:Category,Arts and Culture,Location,Mountain View,Tag,Theater
DESCRIPTION:How Flowers Bloom by Liv C. Smith is a raw, lyrical exploration of five young women navigating mental illness, trauma and healing&amp;mdash;together. Blending poetry, movement and sharp dialogue, the play finds light in the darkest corners, balancing pain with humor, resilience and moments of joy. A powerful reminder that hope, though fragile, still blooms. For mature audiences only. Location: Mountain View Campus, Bldg. E, Room E127 (Performance Hall)140913
DTSTAMP:20260422T163530
DTSTART;TZID=America/Chicago:20251015T193000
DTEND;TZID=America/Chicago:20251015T220000
LOCATION:Mountain View
SUMMARY;LANGUAGE=en-us:How Flowers Bloom by Liv C. Smith
UID:20172911ec823dbe417c73f23b0c58ca@www.dallascollege.edu
END:VEVENT
BEGIN:VEVENT
CATEGORIES:Category,Arts and Culture,Location,Mountain View,Tag,Theater
DESCRIPTION:How Flowers Bloom by Liv C. Smith is a raw, lyrical exploration of five young women navigating mental illness, trauma and healing&amp;mdash;together. Blending poetry, movement and sharp dialogue, the play finds light in the darkest corners, balancing pain with humor, resilience and moments of joy. A powerful reminder that hope, though fragile, still blooms. For mature audiences only. Location: Mountain View Campus, Bldg. E, Room E127 (Performance Hall)140913
DTSTAMP:20260422T163530
DTSTART;TZID=America/Chicago:20251016T193000
DTEND;TZID=America/Chicago:20251016T220000
LOCATION:Mountain View
SUMMARY;LANGUAGE=en-us:How Flowers Bloom by Liv C. Smith
UID:71fef0920d59181115456ed4e7ede4ee@www.dallascollege.edu
END:VEVENT
BEGIN:VEVENT
CATEGORIES:Category,Arts and Culture,Location,Mountain View,Tag,Theater
DESCRIPTION:How Flowers Bloom by Liv C. Smith is a raw, lyrical exploration of five young women navigating mental illness, trauma and healing&amp;mdash;together. Blending poetry, movement and sharp dialogue, the play finds light in the darkest corners, balancing pain with humor, resilience and moments of joy. A powerful reminder that hope, though fragile, still blooms. For mature audiences only. Location: Mountain View Campus, Bldg. E, Room E127 (Performance Hall)140913
DTSTAMP:20260422T163530
DTSTART;TZID=America/Chicago:20251017T193000
DTEND;TZID=America/Chicago:20251017T220000
LOCATION:Mountain View
SUMMARY;LANGUAGE=en-us:How Flowers Bloom by Liv C. Smith
UID:6ad58d89f1770d51178446230d09cd0a@www.dallascollege.edu
END:VEVENT
BEGIN:VEVENT
CATEGORIES:Category,Arts and Culture,Location,Mountain View,Tag,Theater
DESCRIPTION:How Flowers Bloom by Liv C. Smith is a raw, lyrical exploration of five young women navigating mental illness, trauma and healing&amp;mdash;together. Blending poetry, movement and sharp dialogue, the play finds light in the darkest corners, balancing pain with humor, resilience and moments of joy. A powerful reminder that hope, though fragile, still blooms. For mature audiences only. Location: Mountain View Campus, Bldg. E, Room E127 (Performance Hall)140913
DTSTAMP:20260422T163530
DTSTART;TZID=America/Chicago:20251018T193000
DTEND;TZID=America/Chicago:20251018T220000
LOCATION:Mountain View
SUMMARY;LANGUAGE=en-us:How Flowers Bloom by Liv C. Smith
UID:27b9ef0294c28eff13655d274a79ceda@www.dallascollege.edu
END:VEVENT
END:VCALENDAR
