BEGIN:VCALENDAR
VERSION:2.0
X-WR-CALNAME:EventsCalendar
CALSCALE:GREGORIAN
BEGIN:VTIMEZONE
TZID:America/Chicago
LAST-MODIFIED:20231222T233358Z
TZURL:https://www.tzurl.org/zoneinfo-outlook/America/Chicago
X-LIC-LOCATION:America/Chicago
BEGIN:DAYLIGHT
TZNAME:CDT
TZOFFSETFROM:-0600
TZOFFSETTO:-0500
DTSTART:19700308T020000
RRULE:FREQ=YEARLY;BYMONTH=3;BYDAY=2SU
END:DAYLIGHT
BEGIN:STANDARD
TZNAME:CST
TZOFFSETFROM:-0500
TZOFFSETTO:-0600
DTSTART:19701101T020000
RRULE:FREQ=YEARLY;BYMONTH=11;BYDAY=1SU
END:STANDARD
END:VTIMEZONE
BEGIN:VEVENT
CATEGORIES:Category,Academic Calendar,Location,All Locations
DESCRIPTION:Dallas College will be closed Nov. 27-28 for Fall Break. Classes resume Dec. 1.141883
DTSTAMP:20260422T200533
DTSTART;TZID=America/Chicago:20251127T000000
DTEND;TZID=America/Chicago:20251128T235900
LOCATION:All Locations
SUMMARY;LANGUAGE=en-us:Fall Break (16-Week Semester and Second Eight-Week Fall Session)
UID:edd8bf220e86558073bfa3a102983289@www.dallascollege.edu
END:VEVENT
END:VCALENDAR
