BEGIN:VCALENDAR
VERSION:2.0
X-WR-CALNAME:EventsCalendar
CALSCALE:GREGORIAN
BEGIN:VTIMEZONE
TZID:America/Chicago
LAST-MODIFIED:20231222T233358Z
TZURL:https://www.tzurl.org/zoneinfo-outlook/America/Chicago
X-LIC-LOCATION:America/Chicago
BEGIN:DAYLIGHT
TZNAME:CDT
TZOFFSETFROM:-0600
TZOFFSETTO:-0500
DTSTART:19700308T020000
RRULE:FREQ=YEARLY;BYMONTH=3;BYDAY=2SU
END:DAYLIGHT
BEGIN:STANDARD
TZNAME:CST
TZOFFSETFROM:-0500
TZOFFSETTO:-0600
DTSTART:19701101T020000
RRULE:FREQ=YEARLY;BYMONTH=11;BYDAY=1SU
END:STANDARD
END:VTIMEZONE
BEGIN:VEVENT
CATEGORIES:Category,Academic Calendar,Location,All Locations
DESCRIPTION:Final exams for Winter term will be held today, and Winter term ends.141917
DTSTAMP:20260422T161524
DTSTART;TZID=America/Chicago:20260109T000000
DTEND;TZID=America/Chicago:20260109T235900
LOCATION:All Locations
SUMMARY;LANGUAGE=en-us:Final Exams/Winter Session Ends
UID:6e2a98a5aaa64f02bbe56defc97974af@www.dallascollege.edu
END:VEVENT
END:VCALENDAR
