BEGIN:VCALENDAR
VERSION:2.0
X-WR-CALNAME:EventsCalendar
CALSCALE:GREGORIAN
BEGIN:VTIMEZONE
TZID:America/Chicago
LAST-MODIFIED:20231222T233358Z
TZURL:https://www.tzurl.org/zoneinfo-outlook/America/Chicago
X-LIC-LOCATION:America/Chicago
BEGIN:DAYLIGHT
TZNAME:CDT
TZOFFSETFROM:-0600
TZOFFSETTO:-0500
DTSTART:19700308T020000
RRULE:FREQ=YEARLY;BYMONTH=3;BYDAY=2SU
END:DAYLIGHT
BEGIN:STANDARD
TZNAME:CST
TZOFFSETFROM:-0500
TZOFFSETTO:-0600
DTSTART:19701101T020000
RRULE:FREQ=YEARLY;BYMONTH=11;BYDAY=1SU
END:STANDARD
END:VTIMEZONE
BEGIN:VEVENT
CATEGORIES:Category,Academic Calendar,Location,All Locations
DESCRIPTION:Classes will not be held and offices will be closed in observance of the Martin Luther King Jr. holiday. 141923
DTSTAMP:20260422T182533
DTSTART;TZID=America/Chicago:20260119T000000
DTEND;TZID=America/Chicago:20260119T235900
LOCATION:All Locations
SUMMARY;LANGUAGE=en-us:Dr. Martin Luther King Jr. Day - College Closed
UID:ee8b643b4bcf528ee7a7c4dae131d3b8@www.dallascollege.edu
END:VEVENT
END:VCALENDAR
