BEGIN:VCALENDAR
VERSION:2.0
X-WR-CALNAME:EventsCalendar
CALSCALE:GREGORIAN
BEGIN:VTIMEZONE
TZID:America/Chicago
LAST-MODIFIED:20231222T233358Z
TZURL:https://www.tzurl.org/zoneinfo-outlook/America/Chicago
X-LIC-LOCATION:America/Chicago
BEGIN:DAYLIGHT
TZNAME:CDT
TZOFFSETFROM:-0600
TZOFFSETTO:-0500
DTSTART:19700308T020000
RRULE:FREQ=YEARLY;BYMONTH=3;BYDAY=2SU
END:DAYLIGHT
BEGIN:STANDARD
TZNAME:CST
TZOFFSETFROM:-0500
TZOFFSETTO:-0600
DTSTART:19701101T020000
RRULE:FREQ=YEARLY;BYMONTH=11;BYDAY=1SU
END:STANDARD
END:VTIMEZONE
BEGIN:VEVENT
CATEGORIES:Category,Academic Calendar,Location,All Locations
DESCRIPTION:Classes for the Summer 10-week and first Summer five-week sessions begin today.142636
DTSTAMP:20260423T151130
DTSTART;TZID=America/Chicago:20260608T000000
DTEND;TZID=America/Chicago:20260608T235900
LOCATION:All Locations
SUMMARY;LANGUAGE=en-us:Summer 10-Week and Summer I (First Five-Week) Sessions Begin
UID:6c8ed015beb1453716078ed5226a2abf@www.dallascollege.edu
END:VEVENT
END:VCALENDAR
