BEGIN:VCALENDAR
VERSION:2.0
X-WR-CALNAME:EventsCalendar
CALSCALE:GREGORIAN
BEGIN:VTIMEZONE
TZID:America/Chicago
LAST-MODIFIED:20231222T233358Z
TZURL:https://www.tzurl.org/zoneinfo-outlook/America/Chicago
X-LIC-LOCATION:America/Chicago
BEGIN:DAYLIGHT
TZNAME:CDT
TZOFFSETFROM:-0600
TZOFFSETTO:-0500
DTSTART:19700308T020000
RRULE:FREQ=YEARLY;BYMONTH=3;BYDAY=2SU
END:DAYLIGHT
BEGIN:STANDARD
TZNAME:CST
TZOFFSETFROM:-0500
TZOFFSETTO:-0600
DTSTART:19701101T020000
RRULE:FREQ=YEARLY;BYMONTH=11;BYDAY=1SU
END:STANDARD
END:VTIMEZONE
BEGIN:VEVENT
CATEGORIES:Category,Academic Calendar,Location,All Locations
DESCRIPTION:Today is the last day students can withdraw from a Summer I (first five weeks) credit class with a grade of W. Note: This withdrawal date applies only to Summer I (first five weeks) classes that begin on the first day of the term. Classes that begin on different dates may have different deadlines to withdraw. Students should check the class syllabus to determine the last date to withdraw for each of their classes.142660
DTSTAMP:20260423T023757
DTSTART;TZID=America/Chicago:20260625T000000
DTEND;TZID=America/Chicago:20260625T235900
LOCATION:All Locations
SUMMARY;LANGUAGE=en-us:Last Day To Withdraw With a Grade of W (Summer I)
UID:cb7aba69cc9e8ceef766c7f2c1bfdc22@www.dallascollege.edu
END:VEVENT
END:VCALENDAR
