BEGIN:VCALENDAR
VERSION:2.0
X-WR-CALNAME:EventsCalendar
CALSCALE:GREGORIAN
BEGIN:VTIMEZONE
TZID:America/Chicago
LAST-MODIFIED:20231222T233358Z
TZURL:https://www.tzurl.org/zoneinfo-outlook/America/Chicago
X-LIC-LOCATION:America/Chicago
BEGIN:DAYLIGHT
TZNAME:CDT
TZOFFSETFROM:-0600
TZOFFSETTO:-0500
DTSTART:19700308T020000
RRULE:FREQ=YEARLY;BYMONTH=3;BYDAY=2SU
END:DAYLIGHT
BEGIN:STANDARD
TZNAME:CST
TZOFFSETFROM:-0500
TZOFFSETTO:-0600
DTSTART:19701101T020000
RRULE:FREQ=YEARLY;BYMONTH=11;BYDAY=1SU
END:STANDARD
END:VTIMEZONE
BEGIN:VEVENT
CATEGORIES:Category,Academic Calendar,Location,All Locations
DESCRIPTION:Classes for the Summer II (second five weeks) session begin today. The registration deadline for these classes is July 12. Please visit DallasCollege.edu/Register for more information.142678
DTSTAMP:20260423T151310
DTSTART;TZID=America/Chicago:20260713T000000
DTEND;TZID=America/Chicago:20260713T235900
LOCATION:All Locations
SUMMARY;LANGUAGE=en-us:Summer II (Second Five Weeks) Credit Classes Begin
UID:0ca51560030488348c279db36e9a4dc1@www.dallascollege.edu
END:VEVENT
END:VCALENDAR
