BEGIN:VCALENDAR
VERSION:2.0
X-WR-CALNAME:EventsCalendar
CALSCALE:GREGORIAN
BEGIN:VTIMEZONE
TZID:America/Chicago
LAST-MODIFIED:20231222T233358Z
TZURL:https://www.tzurl.org/zoneinfo-outlook/America/Chicago
X-LIC-LOCATION:America/Chicago
BEGIN:DAYLIGHT
TZNAME:CDT
TZOFFSETFROM:-0600
TZOFFSETTO:-0500
DTSTART:19700308T020000
RRULE:FREQ=YEARLY;BYMONTH=3;BYDAY=2SU
END:DAYLIGHT
BEGIN:STANDARD
TZNAME:CST
TZOFFSETFROM:-0500
TZOFFSETTO:-0600
DTSTART:19701101T020000
RRULE:FREQ=YEARLY;BYMONTH=11;BYDAY=1SU
END:STANDARD
END:VTIMEZONE
BEGIN:VEVENT
CATEGORIES:Category,Seminars and Speakers,Location,Online,Tag,Title IX
DESCRIPTION:The Office of Institutional Equity and Compliance (OIEC) and Title IX team present a program featuring Tamara Brown of The Turning Point Rape Crisis Center. This program is part of Dallas College&amp;rsquo;s National Campus Safety Awareness Month (NCSAM) programming. Watch &amp;ldquo;Bystander Awareness and Intervention&amp;rdquo; on Microsoft Teams.142916
DTSTAMP:20260422T182050
DTSTART;TZID=America/Chicago:20250916T120000
DTEND;TZID=America/Chicago:20250916T130000
LOCATION:Online
SUMMARY;LANGUAGE=en-us:Bystander Awareness and Intervention
UID:1e39d7a737d4fba8a4993faf6ea13a63@www.dallascollege.edu
END:VEVENT
END:VCALENDAR
