BEGIN:VCALENDAR
VERSION:2.0
X-WR-CALNAME:EventsCalendar
CALSCALE:GREGORIAN
BEGIN:VTIMEZONE
TZID:America/Chicago
LAST-MODIFIED:20231222T233358Z
TZURL:https://www.tzurl.org/zoneinfo-outlook/America/Chicago
X-LIC-LOCATION:America/Chicago
BEGIN:DAYLIGHT
TZNAME:CDT
TZOFFSETFROM:-0600
TZOFFSETTO:-0500
DTSTART:19700308T020000
RRULE:FREQ=YEARLY;BYMONTH=3;BYDAY=2SU
END:DAYLIGHT
BEGIN:STANDARD
TZNAME:CST
TZOFFSETFROM:-0500
TZOFFSETTO:-0600
DTSTART:19701101T020000
RRULE:FREQ=YEARLY;BYMONTH=11;BYDAY=1SU
END:STANDARD
END:VTIMEZONE
BEGIN:VEVENT
CATEGORIES:Category,Arts and Culture,Location,Offsite,Tag,Art,Tag,Art and Design
DESCRIPTION:The Dallas College School of Creative Arts, Entertainment and Design in partnership with Plaza of the Americas presents a solo display of photography by North Lake Campus student Maria Herrera. Maria Herrera is a Mexico-born photographer and student of Dallas College North Lake. She recently won Dallas College&amp;rsquo;s Fordham Visual Arts Award. Of her work she says, &amp;ldquo;Behind every object we use is the effort, skill, and dedication of workers whose contributions often go unnoticed...The main conflict is between the invisibility of skilled labor and the appreciation of the human effort behind everyday materials.&amp;rdquo; Exhibit runs: July 28 &amp;ndash; Sept. 30, 2025 Location: Plaza of the Americas, 2nd floor Mezzanine, 600 N. Pearl Street, Dallas142982
DTSTAMP:20260422T182538
DTSTART;TZID=America/Chicago:20250916T170000
DTEND;TZID=America/Chicago:20250916T180000
LOCATION:Offsite
SUMMARY;LANGUAGE=en-us:The Surface Beneath by Maria Herrera Art Exhibit Reception
UID:8c65f57fa59054190ab28261ef56cfd2@www.dallascollege.edu
END:VEVENT
END:VCALENDAR
