BEGIN:VCALENDAR
VERSION:2.0
X-WR-CALNAME:EventsCalendar
CALSCALE:GREGORIAN
BEGIN:VTIMEZONE
TZID:America/Chicago
LAST-MODIFIED:20231222T233358Z
TZURL:https://www.tzurl.org/zoneinfo-outlook/America/Chicago
X-LIC-LOCATION:America/Chicago
BEGIN:DAYLIGHT
TZNAME:CDT
TZOFFSETFROM:-0600
TZOFFSETTO:-0500
DTSTART:19700308T020000
RRULE:FREQ=YEARLY;BYMONTH=3;BYDAY=2SU
END:DAYLIGHT
BEGIN:STANDARD
TZNAME:CST
TZOFFSETFROM:-0500
TZOFFSETTO:-0600
DTSTART:19701101T020000
RRULE:FREQ=YEARLY;BYMONTH=11;BYDAY=1SU
END:STANDARD
END:VTIMEZONE
BEGIN:VEVENT
CATEGORIES:Category,Seminars and Speakers,Location,Online,Tag,Disability Awareness Month
DESCRIPTION:Join Accessibility Services for a series of virtual educational events to raise awareness and promote understanding of disabilities. Today, Jordan Ward and Tammy Morgan present: &amp;ldquo;Promoting Accessibility: Embracing Awareness When Working With Deaf/Hard of Hearing Individuals.&amp;rdquo; Register on Microsoft Teams to attend this event.143288
DTSTAMP:20260422T181348
DTSTART;TZID=America/Chicago:20251001T123000
DTEND;TZID=America/Chicago:20251001T140000
LOCATION:Online
SUMMARY;LANGUAGE=en-us:Disability Awareness Month: Virtual Speaker Series
UID:229b11a2efd015654f2b622f5c49ca9f@www.dallascollege.edu
END:VEVENT
END:VCALENDAR
