BEGIN:VCALENDAR
VERSION:2.0
X-WR-CALNAME:EventsCalendar
CALSCALE:GREGORIAN
BEGIN:VTIMEZONE
TZID:America/Chicago
LAST-MODIFIED:20231222T233358Z
TZURL:https://www.tzurl.org/zoneinfo-outlook/America/Chicago
X-LIC-LOCATION:America/Chicago
BEGIN:DAYLIGHT
TZNAME:CDT
TZOFFSETFROM:-0600
TZOFFSETTO:-0500
DTSTART:19700308T020000
RRULE:FREQ=YEARLY;BYMONTH=3;BYDAY=2SU
END:DAYLIGHT
BEGIN:STANDARD
TZNAME:CST
TZOFFSETFROM:-0500
TZOFFSETTO:-0600
DTSTART:19701101T020000
RRULE:FREQ=YEARLY;BYMONTH=11;BYDAY=1SU
END:STANDARD
END:VTIMEZONE
BEGIN:VEVENT
CATEGORIES:Category,Arts and Culture,Location,Eastfield,Tag,Music
DESCRIPTION:Join us for a serene and soul-stirring afternoon as our talented string ensemble brings timeless classics and contemporary favorites to life. Set in a warm, inviting atmosphere, this concert promises rich harmonies, graceful melodies, and an unforgettable musical journey. Perfect for music lovers of all ages&amp;mdash;come unwind and be inspired. Location:&amp;nbsp;Eastfield Campus, Bldg. F, Room F117143454
DTSTAMP:20260422T152925
DTSTART;TZID=America/Chicago:20251015T130000
DTEND;TZID=America/Chicago:20251015T135000
LOCATION:Eastfield
SUMMARY;LANGUAGE=en-us:Eastfield Music Fall Concert Series: String Ensemble
UID:923f9826c12a4242662466655efa6cf8@www.dallascollege.edu
END:VEVENT
END:VCALENDAR
