BEGIN:VCALENDAR
VERSION:2.0
X-WR-CALNAME:EventsCalendar
CALSCALE:GREGORIAN
BEGIN:VTIMEZONE
TZID:America/Chicago
LAST-MODIFIED:20231222T233358Z
TZURL:https://www.tzurl.org/zoneinfo-outlook/America/Chicago
X-LIC-LOCATION:America/Chicago
BEGIN:DAYLIGHT
TZNAME:CDT
TZOFFSETFROM:-0600
TZOFFSETTO:-0500
DTSTART:19700308T020000
RRULE:FREQ=YEARLY;BYMONTH=3;BYDAY=2SU
END:DAYLIGHT
BEGIN:STANDARD
TZNAME:CST
TZOFFSETFROM:-0500
TZOFFSETTO:-0600
DTSTART:19701101T020000
RRULE:FREQ=YEARLY;BYMONTH=11;BYDAY=1SU
END:STANDARD
END:VTIMEZONE
BEGIN:VEVENT
CATEGORIES:Category,Arts and Culture,Location,Eastfield,Tag,Music
DESCRIPTION:Spend a relaxing afternoon with the soulful sounds of guitar and voice. This intimate concert features heartfelt songs, rich acoustic textures, and captivating performances that blend melody and storytelling. A perfect way to unwind and enjoy the beauty of live music. Location: Eastfield Campus, Bldg. F, Room F 117143457
DTSTAMP:20260422T194514
DTSTART;TZID=America/Chicago:20251022T130000
DTEND;TZID=America/Chicago:20251022T135000
LOCATION:Eastfield
SUMMARY;LANGUAGE=en-us:Eastfield Music Fall Concert Series: Guitar and Voice
UID:d6cca8da4f345716ec43b79cd13975ff@www.dallascollege.edu
END:VEVENT
END:VCALENDAR
