BEGIN:VCALENDAR
VERSION:2.0
X-WR-CALNAME:EventsCalendar
CALSCALE:GREGORIAN
BEGIN:VTIMEZONE
TZID:America/Chicago
LAST-MODIFIED:20231222T233358Z
TZURL:https://www.tzurl.org/zoneinfo-outlook/America/Chicago
X-LIC-LOCATION:America/Chicago
BEGIN:DAYLIGHT
TZNAME:CDT
TZOFFSETFROM:-0600
TZOFFSETTO:-0500
DTSTART:19700308T020000
RRULE:FREQ=YEARLY;BYMONTH=3;BYDAY=2SU
END:DAYLIGHT
BEGIN:STANDARD
TZNAME:CST
TZOFFSETFROM:-0500
TZOFFSETTO:-0600
DTSTART:19701101T020000
RRULE:FREQ=YEARLY;BYMONTH=11;BYDAY=1SU
END:STANDARD
END:VTIMEZONE
BEGIN:VEVENT
CATEGORIES:Category,Arts and Culture,Location,Eastfield,Tag,Music
DESCRIPTION:Join us for an afternoon of outstanding performances at the Guitar Departmental Concert. Showcasing talented student guitarists, this concert features a diverse program of solo and ensemble works across a range of styles. Come enjoy the artistry and passion of the next generation of musicians. Location:&amp;nbsp;Eastfield Campus, Bldg. F, Room F-117143482
DTSTAMP:20260423T034634
DTSTART;TZID=America/Chicago:20251112T130000
DTEND;TZID=America/Chicago:20251112T135000
LOCATION:Eastfield
SUMMARY;LANGUAGE=en-us:Eastfield Music Fall Concert Series: Guitar Departmental
UID:61bbc35fda137b602bc6b8bf5a9014b8@www.dallascollege.edu
END:VEVENT
END:VCALENDAR
