BEGIN:VCALENDAR
VERSION:2.0
X-WR-CALNAME:EventsCalendar
CALSCALE:GREGORIAN
BEGIN:VTIMEZONE
TZID:America/Chicago
LAST-MODIFIED:20231222T233358Z
TZURL:https://www.tzurl.org/zoneinfo-outlook/America/Chicago
X-LIC-LOCATION:America/Chicago
BEGIN:DAYLIGHT
TZNAME:CDT
TZOFFSETFROM:-0600
TZOFFSETTO:-0500
DTSTART:19700308T020000
RRULE:FREQ=YEARLY;BYMONTH=3;BYDAY=2SU
END:DAYLIGHT
BEGIN:STANDARD
TZNAME:CST
TZOFFSETFROM:-0500
TZOFFSETTO:-0600
DTSTART:19701101T020000
RRULE:FREQ=YEARLY;BYMONTH=11;BYDAY=1SU
END:STANDARD
END:VTIMEZONE
BEGIN:VEVENT
CATEGORIES:Category,Arts and Culture,Location,Eastfield,Tag,Music
DESCRIPTION:Enjoy an exciting afternoon of music at the Jazz Ensemble Concert. Featuring talented student musicians, this performance showcases swinging rhythms, rich harmonies, and high-energy improvisation. A vibrant celebration of jazz in all its forms&amp;mdash;don&amp;rsquo;t miss it! Location:&amp;nbsp;Eastfield Campus, Bldg. F, Room F117143484
DTSTAMP:20260422T182349
DTSTART;TZID=America/Chicago:20251203T130000
DTEND;TZID=America/Chicago:20251203T135000
LOCATION:Eastfield
SUMMARY;LANGUAGE=en-us:Eastfield Fall Music Concert Series: Jazz Ensemble
UID:6c10b7498a6cae9955ec60f627b3cb4b@www.dallascollege.edu
END:VEVENT
END:VCALENDAR
