BEGIN:VCALENDAR
VERSION:2.0
X-WR-CALNAME:EventsCalendar
CALSCALE:GREGORIAN
BEGIN:VTIMEZONE
TZID:America/Chicago
LAST-MODIFIED:20231222T233358Z
TZURL:https://www.tzurl.org/zoneinfo-outlook/America/Chicago
X-LIC-LOCATION:America/Chicago
BEGIN:DAYLIGHT
TZNAME:CDT
TZOFFSETFROM:-0600
TZOFFSETTO:-0500
DTSTART:19700308T020000
RRULE:FREQ=YEARLY;BYMONTH=3;BYDAY=2SU
END:DAYLIGHT
BEGIN:STANDARD
TZNAME:CST
TZOFFSETFROM:-0500
TZOFFSETTO:-0600
DTSTART:19701101T020000
RRULE:FREQ=YEARLY;BYMONTH=11;BYDAY=1SU
END:STANDARD
END:VTIMEZONE
BEGIN:VEVENT
CATEGORIES:Category,Arts and Culture,Location,Eastfield,Tag,Music
DESCRIPTION:Join us for a beautiful afternoon of song at the Vocal/Choral Concert. Featuring soloists and ensembles from the voice department, this performance highlights a rich variety of repertoire&amp;mdash;from classical to contemporary. An inspiring celebration of vocal talent and musical expression. Location:&amp;nbsp;Eastfield Campus, Bldg. F, Room F-117 143485
DTSTAMP:20260423T063012
DTSTART;TZID=America/Chicago:20251204T130000
DTEND;TZID=America/Chicago:20251204T135000
LOCATION:Eastfield
SUMMARY;LANGUAGE=en-us:Eastfield Music Fall Concert Series: Vocal/Choral
UID:5b8684f424c68d6bc2c8b23373a8347e@www.dallascollege.edu
END:VEVENT
END:VCALENDAR
