BEGIN:VCALENDAR
VERSION:2.0
X-WR-CALNAME:EventsCalendar
CALSCALE:GREGORIAN
BEGIN:VTIMEZONE
TZID:America/Chicago
LAST-MODIFIED:20231222T233358Z
TZURL:https://www.tzurl.org/zoneinfo-outlook/America/Chicago
X-LIC-LOCATION:America/Chicago
BEGIN:DAYLIGHT
TZNAME:CDT
TZOFFSETFROM:-0600
TZOFFSETTO:-0500
DTSTART:19700308T020000
RRULE:FREQ=YEARLY;BYMONTH=3;BYDAY=2SU
END:DAYLIGHT
BEGIN:STANDARD
TZNAME:CST
TZOFFSETFROM:-0500
TZOFFSETTO:-0600
DTSTART:19701101T020000
RRULE:FREQ=YEARLY;BYMONTH=11;BYDAY=1SU
END:STANDARD
END:VTIMEZONE
BEGIN:VEVENT
CATEGORIES:Category,Counseling and Psychological Services,Location,Online
DESCRIPTION:Mental Health First Aid (MHFA) is a course that teaches you how to identify, understand and respond to signs of mental illnesses and substance use disorders. The training gives you the skills you need to reach out and provide initial help and support to someone who may be developing a mental health or substance use problem or experiencing a crisis. Just like certification for CPR or First Aid, MHFA allows participants to receive a certification in Mental Health First Aid training. Space is available on a first-come, first-served basis to Dallas College employees and students ages 18 and up who are out of high school. In total, there are 20 spots available per date/class, and we offer in-person or online training events. Location:&amp;nbsp; Online&amp;nbsp; This event is hosted by Dallas College Counseling and Psychological Services (CAPS). CAPS provides free mental health counseling services to Dallas College students. For questions or appointment requests, email Counseling@DallasCollege.edu. If you&amp;rsquo;re interested in attending more CAPS events, visit DallasCollege.edu/CounselingEvents. Your world can be stressful &amp;mdash; we&amp;rsquo;re here to help. To meet our team of counselors, students can visit DallasCollege.edu/Counselors.143506
DTSTAMP:20260422T202437
DTSTART;TZID=America/Chicago:20251114T083000
DTEND;TZID=America/Chicago:20251114T150000
LOCATION:Online
SUMMARY;LANGUAGE=en-us:Mental Health First Aid - Nov 14
UID:97006138cf070087713338ec9010d784@www.dallascollege.edu
END:VEVENT
END:VCALENDAR
