BEGIN:VCALENDAR
VERSION:2.0
X-WR-CALNAME:EventsCalendar
CALSCALE:GREGORIAN
BEGIN:VTIMEZONE
TZID:America/Chicago
LAST-MODIFIED:20231222T233358Z
TZURL:https://www.tzurl.org/zoneinfo-outlook/America/Chicago
X-LIC-LOCATION:America/Chicago
BEGIN:DAYLIGHT
TZNAME:CDT
TZOFFSETFROM:-0600
TZOFFSETTO:-0500
DTSTART:19700308T020000
RRULE:FREQ=YEARLY;BYMONTH=3;BYDAY=2SU
END:DAYLIGHT
BEGIN:STANDARD
TZNAME:CST
TZOFFSETFROM:-0500
TZOFFSETTO:-0600
DTSTART:19701101T020000
RRULE:FREQ=YEARLY;BYMONTH=11;BYDAY=1SU
END:STANDARD
END:VTIMEZONE
BEGIN:VEVENT
CATEGORIES:Category,Counseling and Psychological Services,Location,Mountain View
DESCRIPTION:Like screenings for other illnesses, depression screenings are routine part of taking care of ourselves.&amp;nbsp; Join the CAPS team for National Depression Screening Day, an informative event, bring a friend and take a free depression screening, and learn about our services. Location:&amp;nbsp; Mountain View Campus, W Library Foyer This event is hosted by Dallas College Counseling and Psychological Services (CAPS). CAPS provides free mental health counseling services to Dallas College students. For questions or appointment requests, email Counseling@DallasCollege.edu. If you&#039;re interested in attending more CAPS events, visit DallasCollege.edu/CounselingEvents. Your world can be stressful - we&#039;re here to help. To meet our team of counselors, students can visit DallasCollege.edu/Counselors.143613
DTSTAMP:20260422T201046
DTSTART;TZID=America/Chicago:20260407T130000
DTEND;TZID=America/Chicago:20260407T143000
LOCATION:Mountain View
SUMMARY;LANGUAGE=en-us:Depression Screening 
UID:b7a860dd1896b6c154f8fe435c4f7188@www.dallascollege.edu
END:VEVENT
END:VCALENDAR
