BEGIN:VCALENDAR
VERSION:2.0
X-WR-CALNAME:EventsCalendar
CALSCALE:GREGORIAN
BEGIN:VTIMEZONE
TZID:America/Chicago
LAST-MODIFIED:20231222T233358Z
TZURL:https://www.tzurl.org/zoneinfo-outlook/America/Chicago
X-LIC-LOCATION:America/Chicago
BEGIN:DAYLIGHT
TZNAME:CDT
TZOFFSETFROM:-0600
TZOFFSETTO:-0500
DTSTART:19700308T020000
RRULE:FREQ=YEARLY;BYMONTH=3;BYDAY=2SU
END:DAYLIGHT
BEGIN:STANDARD
TZNAME:CST
TZOFFSETFROM:-0500
TZOFFSETTO:-0600
DTSTART:19701101T020000
RRULE:FREQ=YEARLY;BYMONTH=11;BYDAY=1SU
END:STANDARD
END:VTIMEZONE
BEGIN:VEVENT
CATEGORIES:Category,Financial Aid,Location,Cedar Valley,Tag,Cedar Valley,Tag,Financial Aid
DESCRIPTION:Let us help you complete your financial aid application. Financial Aid Help Sessions are offered twice each week at your nearest Dallas College campus.&amp;nbsp; Please note: If you are considered a dependent student, your parent(s) are required to provide information on the Free Application for Federal Student Aid (FAFSA) or on the Texas Application for Student Financial Aid (TASFA), and they must be present with you in order to complete your financial aid application in one of these sessions. Learn more about financial aid at DallasCollege.edu/FA. Locations: Cedar Valley Campus, Room L110 Please RSVP online to attend a session.143640
DTSTAMP:20260422T181940
DTSTART;TZID=America/Chicago:20250918T140000
DTEND;TZID=America/Chicago:20250918T160000
LOCATION:Cedar Valley
SUMMARY;LANGUAGE=en-us:Financial Aid Help Session: Cedar Valley 
UID:d9604f27a9b07abc5b724e06d7f92f27@www.dallascollege.edu
END:VEVENT
BEGIN:VEVENT
CATEGORIES:Category,Financial Aid,Location,Cedar Valley,Tag,Cedar Valley,Tag,Financial Aid
DESCRIPTION:Let us help you complete your financial aid application. Financial Aid Help Sessions are offered twice each week at your nearest Dallas College campus.&amp;nbsp; Please note: If you are considered a dependent student, your parent(s) are required to provide information on the Free Application for Federal Student Aid (FAFSA) or on the Texas Application for Student Financial Aid (TASFA), and they must be present with you in order to complete your financial aid application in one of these sessions. Learn more about financial aid at DallasCollege.edu/FA. Locations: Cedar Valley Campus, Room L110 Please RSVP online to attend a session.143640
DTSTAMP:20260422T181940
DTSTART;TZID=America/Chicago:20250925T140000
DTEND;TZID=America/Chicago:20250925T160000
LOCATION:Cedar Valley
SUMMARY;LANGUAGE=en-us:Financial Aid Help Session: Cedar Valley 
UID:7787a063720718dd8c97c95c3e40b077@www.dallascollege.edu
END:VEVENT
BEGIN:VEVENT
CATEGORIES:Category,Financial Aid,Location,Cedar Valley,Tag,Cedar Valley,Tag,Financial Aid
DESCRIPTION:Let us help you complete your financial aid application. Financial Aid Help Sessions are offered twice each week at your nearest Dallas College campus.&amp;nbsp; Please note: If you are considered a dependent student, your parent(s) are required to provide information on the Free Application for Federal Student Aid (FAFSA) or on the Texas Application for Student Financial Aid (TASFA), and they must be present with you in order to complete your financial aid application in one of these sessions. Learn more about financial aid at DallasCollege.edu/FA. Locations: Cedar Valley Campus, Room L110 Please RSVP online to attend a session.143640
DTSTAMP:20260422T181940
DTSTART;TZID=America/Chicago:20251002T140000
DTEND;TZID=America/Chicago:20251002T160000
LOCATION:Cedar Valley
SUMMARY;LANGUAGE=en-us:Financial Aid Help Session: Cedar Valley 
UID:8de2434ed6aba8a6da84e4d0eae41ea6@www.dallascollege.edu
END:VEVENT
BEGIN:VEVENT
CATEGORIES:Category,Financial Aid,Location,Cedar Valley,Tag,Cedar Valley,Tag,Financial Aid
DESCRIPTION:Let us help you complete your financial aid application. Financial Aid Help Sessions are offered twice each week at your nearest Dallas College campus.&amp;nbsp; Please note: If you are considered a dependent student, your parent(s) are required to provide information on the Free Application for Federal Student Aid (FAFSA) or on the Texas Application for Student Financial Aid (TASFA), and they must be present with you in order to complete your financial aid application in one of these sessions. Learn more about financial aid at DallasCollege.edu/FA. Locations: Cedar Valley Campus, Room L110 Please RSVP online to attend a session.143640
DTSTAMP:20260422T181940
DTSTART;TZID=America/Chicago:20251009T140000
DTEND;TZID=America/Chicago:20251009T160000
LOCATION:Cedar Valley
SUMMARY;LANGUAGE=en-us:Financial Aid Help Session: Cedar Valley 
UID:2f826b1231a0cfd2fe97bfa213c1e1df@www.dallascollege.edu
END:VEVENT
BEGIN:VEVENT
CATEGORIES:Category,Financial Aid,Location,Cedar Valley,Tag,Cedar Valley,Tag,Financial Aid
DESCRIPTION:Let us help you complete your financial aid application. Financial Aid Help Sessions are offered twice each week at your nearest Dallas College campus.&amp;nbsp; Please note: If you are considered a dependent student, your parent(s) are required to provide information on the Free Application for Federal Student Aid (FAFSA) or on the Texas Application for Student Financial Aid (TASFA), and they must be present with you in order to complete your financial aid application in one of these sessions. Learn more about financial aid at DallasCollege.edu/FA. Locations: Cedar Valley Campus, Room L110 Please RSVP online to attend a session.143640
DTSTAMP:20260422T181940
DTSTART;TZID=America/Chicago:20251016T140000
DTEND;TZID=America/Chicago:20251016T160000
LOCATION:Cedar Valley
SUMMARY;LANGUAGE=en-us:Financial Aid Help Session: Cedar Valley 
UID:d5f0a0e50b9da4f91c8a31ab2768ce8e@www.dallascollege.edu
END:VEVENT
BEGIN:VEVENT
CATEGORIES:Category,Financial Aid,Location,Cedar Valley,Tag,Cedar Valley,Tag,Financial Aid
DESCRIPTION:Let us help you complete your financial aid application. Financial Aid Help Sessions are offered twice each week at your nearest Dallas College campus.&amp;nbsp; Please note: If you are considered a dependent student, your parent(s) are required to provide information on the Free Application for Federal Student Aid (FAFSA) or on the Texas Application for Student Financial Aid (TASFA), and they must be present with you in order to complete your financial aid application in one of these sessions. Learn more about financial aid at DallasCollege.edu/FA. Locations: Cedar Valley Campus, Room L110 Please RSVP online to attend a session.143640
DTSTAMP:20260422T181940
DTSTART;TZID=America/Chicago:20251023T140000
DTEND;TZID=America/Chicago:20251023T160000
LOCATION:Cedar Valley
SUMMARY;LANGUAGE=en-us:Financial Aid Help Session: Cedar Valley 
UID:df61917e0459d6fe3b1a0b3dd4f11705@www.dallascollege.edu
END:VEVENT
BEGIN:VEVENT
CATEGORIES:Category,Financial Aid,Location,Cedar Valley,Tag,Cedar Valley,Tag,Financial Aid
DESCRIPTION:Let us help you complete your financial aid application. Financial Aid Help Sessions are offered twice each week at your nearest Dallas College campus.&amp;nbsp; Please note: If you are considered a dependent student, your parent(s) are required to provide information on the Free Application for Federal Student Aid (FAFSA) or on the Texas Application for Student Financial Aid (TASFA), and they must be present with you in order to complete your financial aid application in one of these sessions. Learn more about financial aid at DallasCollege.edu/FA. Locations: Cedar Valley Campus, Room L110 Please RSVP online to attend a session.143640
DTSTAMP:20260422T181940
DTSTART;TZID=America/Chicago:20251030T140000
DTEND;TZID=America/Chicago:20251030T160000
LOCATION:Cedar Valley
SUMMARY;LANGUAGE=en-us:Financial Aid Help Session: Cedar Valley 
UID:b0873cbd3fac2f0551192a8ef3dca56f@www.dallascollege.edu
END:VEVENT
BEGIN:VEVENT
CATEGORIES:Category,Financial Aid,Location,Cedar Valley,Tag,Cedar Valley,Tag,Financial Aid
DESCRIPTION:Let us help you complete your financial aid application. Financial Aid Help Sessions are offered twice each week at your nearest Dallas College campus.&amp;nbsp; Please note: If you are considered a dependent student, your parent(s) are required to provide information on the Free Application for Federal Student Aid (FAFSA) or on the Texas Application for Student Financial Aid (TASFA), and they must be present with you in order to complete your financial aid application in one of these sessions. Learn more about financial aid at DallasCollege.edu/FA. Locations: Cedar Valley Campus, Room L110 Please RSVP online to attend a session.143640
DTSTAMP:20260422T181940
DTSTART;TZID=America/Chicago:20251106T140000
DTEND;TZID=America/Chicago:20251106T160000
LOCATION:Cedar Valley
SUMMARY;LANGUAGE=en-us:Financial Aid Help Session: Cedar Valley 
UID:6b2db76f8ecb8fb520ac168e8970eb37@www.dallascollege.edu
END:VEVENT
BEGIN:VEVENT
CATEGORIES:Category,Financial Aid,Location,Cedar Valley,Tag,Cedar Valley,Tag,Financial Aid
DESCRIPTION:Let us help you complete your financial aid application. Financial Aid Help Sessions are offered twice each week at your nearest Dallas College campus.&amp;nbsp; Please note: If you are considered a dependent student, your parent(s) are required to provide information on the Free Application for Federal Student Aid (FAFSA) or on the Texas Application for Student Financial Aid (TASFA), and they must be present with you in order to complete your financial aid application in one of these sessions. Learn more about financial aid at DallasCollege.edu/FA. Locations: Cedar Valley Campus, Room L110 Please RSVP online to attend a session.143640
DTSTAMP:20260422T181940
DTSTART;TZID=America/Chicago:20251113T140000
DTEND;TZID=America/Chicago:20251113T160000
LOCATION:Cedar Valley
SUMMARY;LANGUAGE=en-us:Financial Aid Help Session: Cedar Valley 
UID:50df17d0ca81a8f2dc1b7dd840d66dcc@www.dallascollege.edu
END:VEVENT
BEGIN:VEVENT
CATEGORIES:Category,Financial Aid,Location,Cedar Valley,Tag,Cedar Valley,Tag,Financial Aid
DESCRIPTION:Let us help you complete your financial aid application. Financial Aid Help Sessions are offered twice each week at your nearest Dallas College campus.&amp;nbsp; Please note: If you are considered a dependent student, your parent(s) are required to provide information on the Free Application for Federal Student Aid (FAFSA) or on the Texas Application for Student Financial Aid (TASFA), and they must be present with you in order to complete your financial aid application in one of these sessions. Learn more about financial aid at DallasCollege.edu/FA. Locations: Cedar Valley Campus, Room L110 Please RSVP online to attend a session.143640
DTSTAMP:20260422T181940
DTSTART;TZID=America/Chicago:20251120T140000
DTEND;TZID=America/Chicago:20251120T160000
LOCATION:Cedar Valley
SUMMARY;LANGUAGE=en-us:Financial Aid Help Session: Cedar Valley 
UID:cd000f4ccfdb08c19ad988cb34bb6102@www.dallascollege.edu
END:VEVENT
END:VCALENDAR
