BEGIN:VCALENDAR
VERSION:2.0
X-WR-CALNAME:EventsCalendar
CALSCALE:GREGORIAN
BEGIN:VTIMEZONE
TZID:America/Chicago
LAST-MODIFIED:20231222T233358Z
TZURL:https://www.tzurl.org/zoneinfo-outlook/America/Chicago
X-LIC-LOCATION:America/Chicago
BEGIN:DAYLIGHT
TZNAME:CDT
TZOFFSETFROM:-0600
TZOFFSETTO:-0500
DTSTART:19700308T020000
RRULE:FREQ=YEARLY;BYMONTH=3;BYDAY=2SU
END:DAYLIGHT
BEGIN:STANDARD
TZNAME:CST
TZOFFSETFROM:-0500
TZOFFSETTO:-0600
DTSTART:19701101T020000
RRULE:FREQ=YEARLY;BYMONTH=11;BYDAY=1SU
END:STANDARD
END:VTIMEZONE
BEGIN:VEVENT
CATEGORIES:Category,Financial Aid,Location,Eastfield,Tag,Eastfield,Tag,Financial Aid
DESCRIPTION:Let us help you complete your financial aid application. Financial Aid Help Sessions are offered twice each week at your nearest Dallas College campus.&amp;nbsp; Please note: If you are considered a dependent student, your parent(s) are required to provide information on the Free Application for Federal Student Aid (FAFSA) or on the Texas Application for Student Financial Aid (TASFA), and they must be present with you in order to complete your financial aid application in one of these sessions. Learn more about financial aid at DallasCollege.edu/FA. Locations: Eastfield Campus, Room B1302 Please RSVP online to attend a session.143644
DTSTAMP:20260422T180621
DTSTART;TZID=America/Chicago:20250923T100000
DTEND;TZID=America/Chicago:20250923T120000
LOCATION:Eastfield
SUMMARY;LANGUAGE=en-us:Financial Aid Help Session: Eastfield
UID:e564bbe0c605a6ea18a814332125e0be@www.dallascollege.edu
END:VEVENT
BEGIN:VEVENT
CATEGORIES:Category,Financial Aid,Location,Eastfield,Tag,Eastfield,Tag,Financial Aid
DESCRIPTION:Let us help you complete your financial aid application. Financial Aid Help Sessions are offered twice each week at your nearest Dallas College campus.&amp;nbsp; Please note: If you are considered a dependent student, your parent(s) are required to provide information on the Free Application for Federal Student Aid (FAFSA) or on the Texas Application for Student Financial Aid (TASFA), and they must be present with you in order to complete your financial aid application in one of these sessions. Learn more about financial aid at DallasCollege.edu/FA. Locations: Eastfield Campus, Room B1302 Please RSVP online to attend a session.143644
DTSTAMP:20260422T180621
DTSTART;TZID=America/Chicago:20250930T100000
DTEND;TZID=America/Chicago:20250930T120000
LOCATION:Eastfield
SUMMARY;LANGUAGE=en-us:Financial Aid Help Session: Eastfield
UID:d80e0ebea39d97b8658cd1ee540a0d44@www.dallascollege.edu
END:VEVENT
BEGIN:VEVENT
CATEGORIES:Category,Financial Aid,Location,Eastfield,Tag,Eastfield,Tag,Financial Aid
DESCRIPTION:Let us help you complete your financial aid application. Financial Aid Help Sessions are offered twice each week at your nearest Dallas College campus.&amp;nbsp; Please note: If you are considered a dependent student, your parent(s) are required to provide information on the Free Application for Federal Student Aid (FAFSA) or on the Texas Application for Student Financial Aid (TASFA), and they must be present with you in order to complete your financial aid application in one of these sessions. Learn more about financial aid at DallasCollege.edu/FA. Locations: Eastfield Campus, Room B1302 Please RSVP online to attend a session.143644
DTSTAMP:20260422T180621
DTSTART;TZID=America/Chicago:20251007T100000
DTEND;TZID=America/Chicago:20251007T120000
LOCATION:Eastfield
SUMMARY;LANGUAGE=en-us:Financial Aid Help Session: Eastfield
UID:c83c2addf782b98fe543f7d3d6f31fb1@www.dallascollege.edu
END:VEVENT
BEGIN:VEVENT
CATEGORIES:Category,Financial Aid,Location,Eastfield,Tag,Eastfield,Tag,Financial Aid
DESCRIPTION:Let us help you complete your financial aid application. Financial Aid Help Sessions are offered twice each week at your nearest Dallas College campus.&amp;nbsp; Please note: If you are considered a dependent student, your parent(s) are required to provide information on the Free Application for Federal Student Aid (FAFSA) or on the Texas Application for Student Financial Aid (TASFA), and they must be present with you in order to complete your financial aid application in one of these sessions. Learn more about financial aid at DallasCollege.edu/FA. Locations: Eastfield Campus, Room B1302 Please RSVP online to attend a session.143644
DTSTAMP:20260422T180621
DTSTART;TZID=America/Chicago:20251014T100000
DTEND;TZID=America/Chicago:20251014T120000
LOCATION:Eastfield
SUMMARY;LANGUAGE=en-us:Financial Aid Help Session: Eastfield
UID:36e9cbee9dcfd175d7c52cc9e7c04d14@www.dallascollege.edu
END:VEVENT
BEGIN:VEVENT
CATEGORIES:Category,Financial Aid,Location,Eastfield,Tag,Eastfield,Tag,Financial Aid
DESCRIPTION:Let us help you complete your financial aid application. Financial Aid Help Sessions are offered twice each week at your nearest Dallas College campus.&amp;nbsp; Please note: If you are considered a dependent student, your parent(s) are required to provide information on the Free Application for Federal Student Aid (FAFSA) or on the Texas Application for Student Financial Aid (TASFA), and they must be present with you in order to complete your financial aid application in one of these sessions. Learn more about financial aid at DallasCollege.edu/FA. Locations: Eastfield Campus, Room B1302 Please RSVP online to attend a session.143644
DTSTAMP:20260422T180621
DTSTART;TZID=America/Chicago:20251021T100000
DTEND;TZID=America/Chicago:20251021T120000
LOCATION:Eastfield
SUMMARY;LANGUAGE=en-us:Financial Aid Help Session: Eastfield
UID:357b5ffe1be6a54d505610c755da2a60@www.dallascollege.edu
END:VEVENT
BEGIN:VEVENT
CATEGORIES:Category,Financial Aid,Location,Eastfield,Tag,Eastfield,Tag,Financial Aid
DESCRIPTION:Let us help you complete your financial aid application. Financial Aid Help Sessions are offered twice each week at your nearest Dallas College campus.&amp;nbsp; Please note: If you are considered a dependent student, your parent(s) are required to provide information on the Free Application for Federal Student Aid (FAFSA) or on the Texas Application for Student Financial Aid (TASFA), and they must be present with you in order to complete your financial aid application in one of these sessions. Learn more about financial aid at DallasCollege.edu/FA. Locations: Eastfield Campus, Room B1302 Please RSVP online to attend a session.143644
DTSTAMP:20260422T180621
DTSTART;TZID=America/Chicago:20251028T100000
DTEND;TZID=America/Chicago:20251028T120000
LOCATION:Eastfield
SUMMARY;LANGUAGE=en-us:Financial Aid Help Session: Eastfield
UID:89df62be41b953f4090d8a9123d80d3e@www.dallascollege.edu
END:VEVENT
BEGIN:VEVENT
CATEGORIES:Category,Financial Aid,Location,Eastfield,Tag,Eastfield,Tag,Financial Aid
DESCRIPTION:Let us help you complete your financial aid application. Financial Aid Help Sessions are offered twice each week at your nearest Dallas College campus.&amp;nbsp; Please note: If you are considered a dependent student, your parent(s) are required to provide information on the Free Application for Federal Student Aid (FAFSA) or on the Texas Application for Student Financial Aid (TASFA), and they must be present with you in order to complete your financial aid application in one of these sessions. Learn more about financial aid at DallasCollege.edu/FA. Locations: Eastfield Campus, Room B1302 Please RSVP online to attend a session.143644
DTSTAMP:20260422T180621
DTSTART;TZID=America/Chicago:20251104T100000
DTEND;TZID=America/Chicago:20251104T120000
LOCATION:Eastfield
SUMMARY;LANGUAGE=en-us:Financial Aid Help Session: Eastfield
UID:848a5f2573dab6190cea1d68477dc227@www.dallascollege.edu
END:VEVENT
END:VCALENDAR
