BEGIN:VCALENDAR
VERSION:2.0
X-WR-CALNAME:EventsCalendar
CALSCALE:GREGORIAN
BEGIN:VTIMEZONE
TZID:America/Chicago
LAST-MODIFIED:20231222T233358Z
TZURL:https://www.tzurl.org/zoneinfo-outlook/America/Chicago
X-LIC-LOCATION:America/Chicago
BEGIN:DAYLIGHT
TZNAME:CDT
TZOFFSETFROM:-0600
TZOFFSETTO:-0500
DTSTART:19700308T020000
RRULE:FREQ=YEARLY;BYMONTH=3;BYDAY=2SU
END:DAYLIGHT
BEGIN:STANDARD
TZNAME:CST
TZOFFSETFROM:-0500
TZOFFSETTO:-0600
DTSTART:19701101T020000
RRULE:FREQ=YEARLY;BYMONTH=11;BYDAY=1SU
END:STANDARD
END:VTIMEZONE
BEGIN:VEVENT
CATEGORIES:Category,Financial Aid,Location,Mountain View,Tag,Financial Aid,Tag,Mountain View
DESCRIPTION:Let us help you complete your financial aid application. Financial Aid Help Sessions are offered twice each week at your nearest Dallas College campus.&amp;nbsp; Please note: If you are considered a dependent student, your parent(s) are required to provide information on the Free Application for Federal Student Aid (FAFSA) or on the Texas Application for Student Financial Aid (TASFA), and they must be present with you in order to complete your financial aid application in one of these sessions. Learn more about financial aid at DallasCollege.edu/FA. Locations: Mountain View Campus, Room W276 Please RSVP online to attend a session.143657
DTSTAMP:20260422T201036
DTSTART;TZID=America/Chicago:20251118T140000
DTEND;TZID=America/Chicago:20251118T160000
LOCATION:Mountain View
SUMMARY;LANGUAGE=en-us:Financial Aid Help Session: Mountain View
UID:eea29c2205785d820b7eda956b05bef9@www.dallascollege.edu
END:VEVENT
BEGIN:VEVENT
CATEGORIES:Category,Financial Aid,Location,Mountain View,Tag,Financial Aid,Tag,Mountain View
DESCRIPTION:Let us help you complete your financial aid application. Financial Aid Help Sessions are offered twice each week at your nearest Dallas College campus.&amp;nbsp; Please note: If you are considered a dependent student, your parent(s) are required to provide information on the Free Application for Federal Student Aid (FAFSA) or on the Texas Application for Student Financial Aid (TASFA), and they must be present with you in order to complete your financial aid application in one of these sessions. Learn more about financial aid at DallasCollege.edu/FA. Locations: Mountain View Campus, Room W276 Please RSVP online to attend a session.143657
DTSTAMP:20260422T201036
DTSTART;TZID=America/Chicago:20251125T140000
DTEND;TZID=America/Chicago:20251125T160000
LOCATION:Mountain View
SUMMARY;LANGUAGE=en-us:Financial Aid Help Session: Mountain View
UID:5bfbcf2726f0049ea4a936b2b0c9c815@www.dallascollege.edu
END:VEVENT
BEGIN:VEVENT
CATEGORIES:Category,Financial Aid,Location,Mountain View,Tag,Financial Aid,Tag,Mountain View
DESCRIPTION:Let us help you complete your financial aid application. Financial Aid Help Sessions are offered twice each week at your nearest Dallas College campus.&amp;nbsp; Please note: If you are considered a dependent student, your parent(s) are required to provide information on the Free Application for Federal Student Aid (FAFSA) or on the Texas Application for Student Financial Aid (TASFA), and they must be present with you in order to complete your financial aid application in one of these sessions. Learn more about financial aid at DallasCollege.edu/FA. Locations: Mountain View Campus, Room W276 Please RSVP online to attend a session.143657
DTSTAMP:20260422T201036
DTSTART;TZID=America/Chicago:20251202T140000
DTEND;TZID=America/Chicago:20251202T160000
LOCATION:Mountain View
SUMMARY;LANGUAGE=en-us:Financial Aid Help Session: Mountain View
UID:74ed569f55d342f69f7c872b7bfde0d6@www.dallascollege.edu
END:VEVENT
BEGIN:VEVENT
CATEGORIES:Category,Financial Aid,Location,Mountain View,Tag,Financial Aid,Tag,Mountain View
DESCRIPTION:Let us help you complete your financial aid application. Financial Aid Help Sessions are offered twice each week at your nearest Dallas College campus.&amp;nbsp; Please note: If you are considered a dependent student, your parent(s) are required to provide information on the Free Application for Federal Student Aid (FAFSA) or on the Texas Application for Student Financial Aid (TASFA), and they must be present with you in order to complete your financial aid application in one of these sessions. Learn more about financial aid at DallasCollege.edu/FA. Locations: Mountain View Campus, Room W276 Please RSVP online to attend a session.143657
DTSTAMP:20260422T201036
DTSTART;TZID=America/Chicago:20251209T140000
DTEND;TZID=America/Chicago:20251209T160000
LOCATION:Mountain View
SUMMARY;LANGUAGE=en-us:Financial Aid Help Session: Mountain View
UID:ee1d545ae26d25b2b243f91e84707638@www.dallascollege.edu
END:VEVENT
BEGIN:VEVENT
CATEGORIES:Category,Financial Aid,Location,Mountain View,Tag,Financial Aid,Tag,Mountain View
DESCRIPTION:Let us help you complete your financial aid application. Financial Aid Help Sessions are offered twice each week at your nearest Dallas College campus.&amp;nbsp; Please note: If you are considered a dependent student, your parent(s) are required to provide information on the Free Application for Federal Student Aid (FAFSA) or on the Texas Application for Student Financial Aid (TASFA), and they must be present with you in order to complete your financial aid application in one of these sessions. Learn more about financial aid at DallasCollege.edu/FA. Locations: Mountain View Campus, Room W276 Please RSVP online to attend a session.143657
DTSTAMP:20260422T201036
DTSTART;TZID=America/Chicago:20251216T140000
DTEND;TZID=America/Chicago:20251216T160000
LOCATION:Mountain View
SUMMARY;LANGUAGE=en-us:Financial Aid Help Session: Mountain View
UID:5ec612675f8eebc2c6c33f10c358c331@www.dallascollege.edu
END:VEVENT
BEGIN:VEVENT
CATEGORIES:Category,Financial Aid,Location,Mountain View,Tag,Financial Aid,Tag,Mountain View
DESCRIPTION:Let us help you complete your financial aid application. Financial Aid Help Sessions are offered twice each week at your nearest Dallas College campus.&amp;nbsp; Please note: If you are considered a dependent student, your parent(s) are required to provide information on the Free Application for Federal Student Aid (FAFSA) or on the Texas Application for Student Financial Aid (TASFA), and they must be present with you in order to complete your financial aid application in one of these sessions. Learn more about financial aid at DallasCollege.edu/FA. Locations: Mountain View Campus, Room W276 Please RSVP online to attend a session.143657
DTSTAMP:20260422T201036
DTSTART;TZID=America/Chicago:20251223T140000
DTEND;TZID=America/Chicago:20251223T160000
LOCATION:Mountain View
SUMMARY;LANGUAGE=en-us:Financial Aid Help Session: Mountain View
UID:0aaac48a2432a2bddfa3ccd5055a5f85@www.dallascollege.edu
END:VEVENT
END:VCALENDAR
