BEGIN:VCALENDAR
VERSION:2.0
X-WR-CALNAME:EventsCalendar
CALSCALE:GREGORIAN
BEGIN:VTIMEZONE
TZID:America/Chicago
LAST-MODIFIED:20231222T233358Z
TZURL:https://www.tzurl.org/zoneinfo-outlook/America/Chicago
X-LIC-LOCATION:America/Chicago
BEGIN:DAYLIGHT
TZNAME:CDT
TZOFFSETFROM:-0600
TZOFFSETTO:-0500
DTSTART:19700308T020000
RRULE:FREQ=YEARLY;BYMONTH=3;BYDAY=2SU
END:DAYLIGHT
BEGIN:STANDARD
TZNAME:CST
TZOFFSETFROM:-0500
TZOFFSETTO:-0600
DTSTART:19701101T020000
RRULE:FREQ=YEARLY;BYMONTH=11;BYDAY=1SU
END:STANDARD
END:VTIMEZONE
BEGIN:VEVENT
CATEGORIES:Category,Financial Aid,Location,Richland,Tag,Financial Aid,Tag,Richland
DESCRIPTION:Let us help you complete your financial aid application. Financial Aid Help Sessions are offered twice each week at your nearest Dallas College campus.&amp;nbsp; Please note: If you are considered a dependent student, your parent(s) are required to provide information on the Free Application for Federal Student Aid (FAFSA) or on the Texas Application for Student Financial Aid (TASFA), and they must be present with you in order to complete your financial aid application in one of these sessions. Learn more about financial aid at DallasCollege.edu/FA. Locations: Richland Campus, Room T225 Please RSVP online to attend a session.143662
DTSTAMP:20260422T182537
DTSTART;TZID=America/Chicago:20251205T100000
DTEND;TZID=America/Chicago:20251205T120000
LOCATION:Richland
SUMMARY;LANGUAGE=en-us:Financial Aid Help Session: Richland 
UID:703ef92c2b3b64a3d469acb7d6cb1b62@www.dallascollege.edu
END:VEVENT
BEGIN:VEVENT
CATEGORIES:Category,Financial Aid,Location,Richland,Tag,Financial Aid,Tag,Richland
DESCRIPTION:Let us help you complete your financial aid application. Financial Aid Help Sessions are offered twice each week at your nearest Dallas College campus.&amp;nbsp; Please note: If you are considered a dependent student, your parent(s) are required to provide information on the Free Application for Federal Student Aid (FAFSA) or on the Texas Application for Student Financial Aid (TASFA), and they must be present with you in order to complete your financial aid application in one of these sessions. Learn more about financial aid at DallasCollege.edu/FA. Locations: Richland Campus, Room T225 Please RSVP online to attend a session.143662
DTSTAMP:20260422T182537
DTSTART;TZID=America/Chicago:20251212T100000
DTEND;TZID=America/Chicago:20251212T120000
LOCATION:Richland
SUMMARY;LANGUAGE=en-us:Financial Aid Help Session: Richland 
UID:5f3a367e8b4d460f57b971fe4f433a43@www.dallascollege.edu
END:VEVENT
BEGIN:VEVENT
CATEGORIES:Category,Financial Aid,Location,Richland,Tag,Financial Aid,Tag,Richland
DESCRIPTION:Let us help you complete your financial aid application. Financial Aid Help Sessions are offered twice each week at your nearest Dallas College campus.&amp;nbsp; Please note: If you are considered a dependent student, your parent(s) are required to provide information on the Free Application for Federal Student Aid (FAFSA) or on the Texas Application for Student Financial Aid (TASFA), and they must be present with you in order to complete your financial aid application in one of these sessions. Learn more about financial aid at DallasCollege.edu/FA. Locations: Richland Campus, Room T225 Please RSVP online to attend a session.143662
DTSTAMP:20260422T182537
DTSTART;TZID=America/Chicago:20251219T100000
DTEND;TZID=America/Chicago:20251219T120000
LOCATION:Richland
SUMMARY;LANGUAGE=en-us:Financial Aid Help Session: Richland 
UID:151dcfddabd9bea6e0cd34516ba27f72@www.dallascollege.edu
END:VEVENT
END:VCALENDAR
