BEGIN:VCALENDAR
VERSION:2.0
X-WR-CALNAME:EventsCalendar
CALSCALE:GREGORIAN
BEGIN:VTIMEZONE
TZID:America/Chicago
LAST-MODIFIED:20231222T233358Z
TZURL:https://www.tzurl.org/zoneinfo-outlook/America/Chicago
X-LIC-LOCATION:America/Chicago
BEGIN:DAYLIGHT
TZNAME:CDT
TZOFFSETFROM:-0600
TZOFFSETTO:-0500
DTSTART:19700308T020000
RRULE:FREQ=YEARLY;BYMONTH=3;BYDAY=2SU
END:DAYLIGHT
BEGIN:STANDARD
TZNAME:CST
TZOFFSETFROM:-0500
TZOFFSETTO:-0600
DTSTART:19701101T020000
RRULE:FREQ=YEARLY;BYMONTH=11;BYDAY=1SU
END:STANDARD
END:VTIMEZONE
BEGIN:VEVENT
CATEGORIES:Category,Financial Aid,Location,North Lake,Tag,Financial Aid,Tag,North Lake
DESCRIPTION:Let us help you complete your financial aid application. Financial Aid Help Sessions are offered twice each week at your nearest Dallas College campus.&amp;nbsp; Please note: If you are considered a dependent student, your parent(s) are required to provide information on the Free Application for Federal Student Aid (FAFSA) or on the Texas Application for Student Financial Aid (TASFA), and they must be present with you in order to complete your financial aid application in one of these sessions. Learn more about financial aid at DallasCollege.edu/FA. Locations: North Lake &amp;nbsp;Campus, Room A414 Please RSVP online to attend a session.143663
DTSTAMP:20260422T183533
DTSTART;TZID=America/Chicago:20250924T100000
DTEND;TZID=America/Chicago:20250924T120000
LOCATION:North Lake
SUMMARY;LANGUAGE=en-us:Financial Aid Help Session: North Lake 
UID:098d4f66bf14c5455098ebe41a8d218a@www.dallascollege.edu
END:VEVENT
BEGIN:VEVENT
CATEGORIES:Category,Financial Aid,Location,North Lake,Tag,Financial Aid,Tag,North Lake
DESCRIPTION:Let us help you complete your financial aid application. Financial Aid Help Sessions are offered twice each week at your nearest Dallas College campus.&amp;nbsp; Please note: If you are considered a dependent student, your parent(s) are required to provide information on the Free Application for Federal Student Aid (FAFSA) or on the Texas Application for Student Financial Aid (TASFA), and they must be present with you in order to complete your financial aid application in one of these sessions. Learn more about financial aid at DallasCollege.edu/FA. Locations: North Lake &amp;nbsp;Campus, Room A414 Please RSVP online to attend a session.143663
DTSTAMP:20260422T183533
DTSTART;TZID=America/Chicago:20251001T100000
DTEND;TZID=America/Chicago:20251001T120000
LOCATION:North Lake
SUMMARY;LANGUAGE=en-us:Financial Aid Help Session: North Lake 
UID:5a6cb0f20c501f04940e8289e1d54e90@www.dallascollege.edu
END:VEVENT
BEGIN:VEVENT
CATEGORIES:Category,Financial Aid,Location,North Lake,Tag,Financial Aid,Tag,North Lake
DESCRIPTION:Let us help you complete your financial aid application. Financial Aid Help Sessions are offered twice each week at your nearest Dallas College campus.&amp;nbsp; Please note: If you are considered a dependent student, your parent(s) are required to provide information on the Free Application for Federal Student Aid (FAFSA) or on the Texas Application for Student Financial Aid (TASFA), and they must be present with you in order to complete your financial aid application in one of these sessions. Learn more about financial aid at DallasCollege.edu/FA. Locations: North Lake &amp;nbsp;Campus, Room A414 Please RSVP online to attend a session.143663
DTSTAMP:20260422T183533
DTSTART;TZID=America/Chicago:20251008T100000
DTEND;TZID=America/Chicago:20251008T120000
LOCATION:North Lake
SUMMARY;LANGUAGE=en-us:Financial Aid Help Session: North Lake 
UID:9c10d95954579a513720f67ab33c7750@www.dallascollege.edu
END:VEVENT
BEGIN:VEVENT
CATEGORIES:Category,Financial Aid,Location,North Lake,Tag,Financial Aid,Tag,North Lake
DESCRIPTION:Let us help you complete your financial aid application. Financial Aid Help Sessions are offered twice each week at your nearest Dallas College campus.&amp;nbsp; Please note: If you are considered a dependent student, your parent(s) are required to provide information on the Free Application for Federal Student Aid (FAFSA) or on the Texas Application for Student Financial Aid (TASFA), and they must be present with you in order to complete your financial aid application in one of these sessions. Learn more about financial aid at DallasCollege.edu/FA. Locations: North Lake &amp;nbsp;Campus, Room A414 Please RSVP online to attend a session.143663
DTSTAMP:20260422T183533
DTSTART;TZID=America/Chicago:20251015T100000
DTEND;TZID=America/Chicago:20251015T120000
LOCATION:North Lake
SUMMARY;LANGUAGE=en-us:Financial Aid Help Session: North Lake 
UID:a84b0f10b3c7f4b925886d935f2cb3e1@www.dallascollege.edu
END:VEVENT
BEGIN:VEVENT
CATEGORIES:Category,Financial Aid,Location,North Lake,Tag,Financial Aid,Tag,North Lake
DESCRIPTION:Let us help you complete your financial aid application. Financial Aid Help Sessions are offered twice each week at your nearest Dallas College campus.&amp;nbsp; Please note: If you are considered a dependent student, your parent(s) are required to provide information on the Free Application for Federal Student Aid (FAFSA) or on the Texas Application for Student Financial Aid (TASFA), and they must be present with you in order to complete your financial aid application in one of these sessions. Learn more about financial aid at DallasCollege.edu/FA. Locations: North Lake &amp;nbsp;Campus, Room A414 Please RSVP online to attend a session.143663
DTSTAMP:20260422T183533
DTSTART;TZID=America/Chicago:20251022T100000
DTEND;TZID=America/Chicago:20251022T120000
LOCATION:North Lake
SUMMARY;LANGUAGE=en-us:Financial Aid Help Session: North Lake 
UID:5f6901899154fdfb88fc0580f8176b4c@www.dallascollege.edu
END:VEVENT
BEGIN:VEVENT
CATEGORIES:Category,Financial Aid,Location,North Lake,Tag,Financial Aid,Tag,North Lake
DESCRIPTION:Let us help you complete your financial aid application. Financial Aid Help Sessions are offered twice each week at your nearest Dallas College campus.&amp;nbsp; Please note: If you are considered a dependent student, your parent(s) are required to provide information on the Free Application for Federal Student Aid (FAFSA) or on the Texas Application for Student Financial Aid (TASFA), and they must be present with you in order to complete your financial aid application in one of these sessions. Learn more about financial aid at DallasCollege.edu/FA. Locations: North Lake &amp;nbsp;Campus, Room A414 Please RSVP online to attend a session.143663
DTSTAMP:20260422T183533
DTSTART;TZID=America/Chicago:20251029T100000
DTEND;TZID=America/Chicago:20251029T120000
LOCATION:North Lake
SUMMARY;LANGUAGE=en-us:Financial Aid Help Session: North Lake 
UID:010260eace24e3874673885fefdf928d@www.dallascollege.edu
END:VEVENT
BEGIN:VEVENT
CATEGORIES:Category,Financial Aid,Location,North Lake,Tag,Financial Aid,Tag,North Lake
DESCRIPTION:Let us help you complete your financial aid application. Financial Aid Help Sessions are offered twice each week at your nearest Dallas College campus.&amp;nbsp; Please note: If you are considered a dependent student, your parent(s) are required to provide information on the Free Application for Federal Student Aid (FAFSA) or on the Texas Application for Student Financial Aid (TASFA), and they must be present with you in order to complete your financial aid application in one of these sessions. Learn more about financial aid at DallasCollege.edu/FA. Locations: North Lake &amp;nbsp;Campus, Room A414 Please RSVP online to attend a session.143663
DTSTAMP:20260422T183533
DTSTART;TZID=America/Chicago:20251105T100000
DTEND;TZID=America/Chicago:20251105T120000
LOCATION:North Lake
SUMMARY;LANGUAGE=en-us:Financial Aid Help Session: North Lake 
UID:bc6049795b5879fceef65bb4c94857e1@www.dallascollege.edu
END:VEVENT
BEGIN:VEVENT
CATEGORIES:Category,Financial Aid,Location,North Lake,Tag,Financial Aid,Tag,North Lake
DESCRIPTION:Let us help you complete your financial aid application. Financial Aid Help Sessions are offered twice each week at your nearest Dallas College campus.&amp;nbsp; Please note: If you are considered a dependent student, your parent(s) are required to provide information on the Free Application for Federal Student Aid (FAFSA) or on the Texas Application for Student Financial Aid (TASFA), and they must be present with you in order to complete your financial aid application in one of these sessions. Learn more about financial aid at DallasCollege.edu/FA. Locations: North Lake &amp;nbsp;Campus, Room A414 Please RSVP online to attend a session.143663
DTSTAMP:20260422T183533
DTSTART;TZID=America/Chicago:20251112T100000
DTEND;TZID=America/Chicago:20251112T120000
LOCATION:North Lake
SUMMARY;LANGUAGE=en-us:Financial Aid Help Session: North Lake 
UID:8f330cc66a815ee811a7c805dcfc734b@www.dallascollege.edu
END:VEVENT
BEGIN:VEVENT
CATEGORIES:Category,Financial Aid,Location,North Lake,Tag,Financial Aid,Tag,North Lake
DESCRIPTION:Let us help you complete your financial aid application. Financial Aid Help Sessions are offered twice each week at your nearest Dallas College campus.&amp;nbsp; Please note: If you are considered a dependent student, your parent(s) are required to provide information on the Free Application for Federal Student Aid (FAFSA) or on the Texas Application for Student Financial Aid (TASFA), and they must be present with you in order to complete your financial aid application in one of these sessions. Learn more about financial aid at DallasCollege.edu/FA. Locations: North Lake &amp;nbsp;Campus, Room A414 Please RSVP online to attend a session.143663
DTSTAMP:20260422T183533
DTSTART;TZID=America/Chicago:20251119T100000
DTEND;TZID=America/Chicago:20251119T120000
LOCATION:North Lake
SUMMARY;LANGUAGE=en-us:Financial Aid Help Session: North Lake 
UID:a571657528ee31ef1cfb530e8f33ba99@www.dallascollege.edu
END:VEVENT
BEGIN:VEVENT
CATEGORIES:Category,Financial Aid,Location,North Lake,Tag,Financial Aid,Tag,North Lake
DESCRIPTION:Let us help you complete your financial aid application. Financial Aid Help Sessions are offered twice each week at your nearest Dallas College campus.&amp;nbsp; Please note: If you are considered a dependent student, your parent(s) are required to provide information on the Free Application for Federal Student Aid (FAFSA) or on the Texas Application for Student Financial Aid (TASFA), and they must be present with you in order to complete your financial aid application in one of these sessions. Learn more about financial aid at DallasCollege.edu/FA. Locations: North Lake &amp;nbsp;Campus, Room A414 Please RSVP online to attend a session.143663
DTSTAMP:20260422T183533
DTSTART;TZID=America/Chicago:20251126T100000
DTEND;TZID=America/Chicago:20251126T120000
LOCATION:North Lake
SUMMARY;LANGUAGE=en-us:Financial Aid Help Session: North Lake 
UID:2fbd652e302d49045c21df93332e0e5c@www.dallascollege.edu
END:VEVENT
BEGIN:VEVENT
CATEGORIES:Category,Financial Aid,Location,North Lake,Tag,Financial Aid,Tag,North Lake
DESCRIPTION:Let us help you complete your financial aid application. Financial Aid Help Sessions are offered twice each week at your nearest Dallas College campus.&amp;nbsp; Please note: If you are considered a dependent student, your parent(s) are required to provide information on the Free Application for Federal Student Aid (FAFSA) or on the Texas Application for Student Financial Aid (TASFA), and they must be present with you in order to complete your financial aid application in one of these sessions. Learn more about financial aid at DallasCollege.edu/FA. Locations: North Lake &amp;nbsp;Campus, Room A414 Please RSVP online to attend a session.143663
DTSTAMP:20260422T183533
DTSTART;TZID=America/Chicago:20251203T100000
DTEND;TZID=America/Chicago:20251203T120000
LOCATION:North Lake
SUMMARY;LANGUAGE=en-us:Financial Aid Help Session: North Lake 
UID:97aa803ce0d34ef4c0925857d252c338@www.dallascollege.edu
END:VEVENT
BEGIN:VEVENT
CATEGORIES:Category,Financial Aid,Location,North Lake,Tag,Financial Aid,Tag,North Lake
DESCRIPTION:Let us help you complete your financial aid application. Financial Aid Help Sessions are offered twice each week at your nearest Dallas College campus.&amp;nbsp; Please note: If you are considered a dependent student, your parent(s) are required to provide information on the Free Application for Federal Student Aid (FAFSA) or on the Texas Application for Student Financial Aid (TASFA), and they must be present with you in order to complete your financial aid application in one of these sessions. Learn more about financial aid at DallasCollege.edu/FA. Locations: North Lake &amp;nbsp;Campus, Room A414 Please RSVP online to attend a session.143663
DTSTAMP:20260422T183533
DTSTART;TZID=America/Chicago:20251210T100000
DTEND;TZID=America/Chicago:20251210T120000
LOCATION:North Lake
SUMMARY;LANGUAGE=en-us:Financial Aid Help Session: North Lake 
UID:1c5a4944237a64c48ad3245d7fc3c453@www.dallascollege.edu
END:VEVENT
BEGIN:VEVENT
CATEGORIES:Category,Financial Aid,Location,North Lake,Tag,Financial Aid,Tag,North Lake
DESCRIPTION:Let us help you complete your financial aid application. Financial Aid Help Sessions are offered twice each week at your nearest Dallas College campus.&amp;nbsp; Please note: If you are considered a dependent student, your parent(s) are required to provide information on the Free Application for Federal Student Aid (FAFSA) or on the Texas Application for Student Financial Aid (TASFA), and they must be present with you in order to complete your financial aid application in one of these sessions. Learn more about financial aid at DallasCollege.edu/FA. Locations: North Lake &amp;nbsp;Campus, Room A414 Please RSVP online to attend a session.143663
DTSTAMP:20260422T183533
DTSTART;TZID=America/Chicago:20251217T100000
DTEND;TZID=America/Chicago:20251217T120000
LOCATION:North Lake
SUMMARY;LANGUAGE=en-us:Financial Aid Help Session: North Lake 
UID:0131d1dd3637a9737e395ac48123c1fd@www.dallascollege.edu
END:VEVENT
BEGIN:VEVENT
CATEGORIES:Category,Financial Aid,Location,North Lake,Tag,Financial Aid,Tag,North Lake
DESCRIPTION:Let us help you complete your financial aid application. Financial Aid Help Sessions are offered twice each week at your nearest Dallas College campus.&amp;nbsp; Please note: If you are considered a dependent student, your parent(s) are required to provide information on the Free Application for Federal Student Aid (FAFSA) or on the Texas Application for Student Financial Aid (TASFA), and they must be present with you in order to complete your financial aid application in one of these sessions. Learn more about financial aid at DallasCollege.edu/FA. Locations: North Lake &amp;nbsp;Campus, Room A414 Please RSVP online to attend a session.143663
DTSTAMP:20260422T183533
DTSTART;TZID=America/Chicago:20251224T100000
DTEND;TZID=America/Chicago:20251224T120000
LOCATION:North Lake
SUMMARY;LANGUAGE=en-us:Financial Aid Help Session: North Lake 
UID:23b90e13665b080d5b7fc76762a483f2@www.dallascollege.edu
END:VEVENT
END:VCALENDAR
