BEGIN:VCALENDAR
VERSION:2.0
X-WR-CALNAME:EventsCalendar
CALSCALE:GREGORIAN
BEGIN:VTIMEZONE
TZID:America/Chicago
LAST-MODIFIED:20231222T233358Z
TZURL:https://www.tzurl.org/zoneinfo-outlook/America/Chicago
X-LIC-LOCATION:America/Chicago
BEGIN:DAYLIGHT
TZNAME:CDT
TZOFFSETFROM:-0600
TZOFFSETTO:-0500
DTSTART:19700308T020000
RRULE:FREQ=YEARLY;BYMONTH=3;BYDAY=2SU
END:DAYLIGHT
BEGIN:STANDARD
TZNAME:CST
TZOFFSETFROM:-0500
TZOFFSETTO:-0600
DTSTART:19701101T020000
RRULE:FREQ=YEARLY;BYMONTH=11;BYDAY=1SU
END:STANDARD
END:VTIMEZONE
BEGIN:VEVENT
CATEGORIES:Category,Seminars and Speakers,Location,Online,Tag,Disability Awareness Month
DESCRIPTION:Join Accessibility Services for a series of virtual educational events to raise awareness and promote understanding of disabilities. Today&#039;s event is &quot;Voices of Ability: Redefining Disability,&quot; a virtual poetry and spoken word event commemorating 35 years of the ADA and celebrating the ongoing journey toward equality. Live-streamed from North Lake Campus Performance Hall, it will feature powerful personal reflections from students, staff and faculty on the lived experience of disability. Register on Microsoft Teams to attend this event.143723
DTSTAMP:20260422T182047
DTSTART;TZID=America/Chicago:20251029T123000
DTEND;TZID=America/Chicago:20251029T140000
LOCATION:Online
SUMMARY;LANGUAGE=en-us:Disability Awareness Month: Virtual Speaker Series
UID:f74fb03b30d6989ec90d4debc0b0e493@www.dallascollege.edu
END:VEVENT
END:VCALENDAR
