BEGIN:VCALENDAR
VERSION:2.0
X-WR-CALNAME:EventsCalendar
CALSCALE:GREGORIAN
BEGIN:VTIMEZONE
TZID:America/Chicago
LAST-MODIFIED:20231222T233358Z
TZURL:https://www.tzurl.org/zoneinfo-outlook/America/Chicago
X-LIC-LOCATION:America/Chicago
BEGIN:DAYLIGHT
TZNAME:CDT
TZOFFSETFROM:-0600
TZOFFSETTO:-0500
DTSTART:19700308T020000
RRULE:FREQ=YEARLY;BYMONTH=3;BYDAY=2SU
END:DAYLIGHT
BEGIN:STANDARD
TZNAME:CST
TZOFFSETFROM:-0500
TZOFFSETTO:-0600
DTSTART:19701101T020000
RRULE:FREQ=YEARLY;BYMONTH=11;BYDAY=1SU
END:STANDARD
END:VTIMEZONE
BEGIN:VEVENT
CATEGORIES:Category,Student Life,Location,Mountain View,Tag,Health and Well-Being Events,Tag,Mountain View
DESCRIPTION:Stop by for a fresh take on food, nutrition, and well-being. Explore how your relationship with eating impacts your health, discover practical tools to support balance, and connect with resources that help you thrive. This event will feature our friends from the North Texas Food Bank, you won&#039;t want to miss out!&amp;nbsp; Location:&amp;nbsp; Mountain View, Tree Top Lounge143834
DTSTAMP:20260422T140853
DTSTART;TZID=America/Chicago:20251113T110000
DTEND;TZID=America/Chicago:20251113T130000
LOCATION:Mountain View
SUMMARY;LANGUAGE=en-us:Nourish and Flourish at Mountain View
UID:d81333098dabcd989a7afa6d9a9c9171@www.dallascollege.edu
END:VEVENT
END:VCALENDAR
