BEGIN:VCALENDAR
VERSION:2.0
X-WR-CALNAME:EventsCalendar
CALSCALE:GREGORIAN
BEGIN:VTIMEZONE
TZID:America/Chicago
LAST-MODIFIED:20231222T233358Z
TZURL:https://www.tzurl.org/zoneinfo-outlook/America/Chicago
X-LIC-LOCATION:America/Chicago
BEGIN:DAYLIGHT
TZNAME:CDT
TZOFFSETFROM:-0600
TZOFFSETTO:-0500
DTSTART:19700308T020000
RRULE:FREQ=YEARLY;BYMONTH=3;BYDAY=2SU
END:DAYLIGHT
BEGIN:STANDARD
TZNAME:CST
TZOFFSETFROM:-0500
TZOFFSETTO:-0600
DTSTART:19701101T020000
RRULE:FREQ=YEARLY;BYMONTH=11;BYDAY=1SU
END:STANDARD
END:VTIMEZONE
BEGIN:VEVENT
CATEGORIES:Category,Counseling and Psychological Services,Category,Student Life,Location,Mountain View,Tag,Disability Awareness Month
DESCRIPTION:Boost your emotional resilience and mental health awareness through interactive activities. Dr. Socorro Preciado will present, &quot;Test Anxiety: What Students Can Do To Manage Anxiety.&quot; This event is hosted by Dallas College Counseling and Psychological Services (CAPS) and Accessibility Services as part of our Disability Awareness Month events. Location: Mountain View Campus, Room W105A143940
DTSTAMP:20260422T232907
DTSTART;TZID=America/Chicago:20251014T130000
DTEND;TZID=America/Chicago:20251014T143000
LOCATION:Mountain View
SUMMARY;LANGUAGE=en-us:Empowering Minds: A Path to Well-Being
UID:d96e480a824125bf31d3c2f17d19eb11@www.dallascollege.edu
END:VEVENT
END:VCALENDAR
