BEGIN:VCALENDAR
VERSION:2.0
X-WR-CALNAME:EventsCalendar
CALSCALE:GREGORIAN
BEGIN:VTIMEZONE
TZID:America/Chicago
LAST-MODIFIED:20231222T233358Z
TZURL:https://www.tzurl.org/zoneinfo-outlook/America/Chicago
X-LIC-LOCATION:America/Chicago
BEGIN:DAYLIGHT
TZNAME:CDT
TZOFFSETFROM:-0600
TZOFFSETTO:-0500
DTSTART:19700308T020000
RRULE:FREQ=YEARLY;BYMONTH=3;BYDAY=2SU
END:DAYLIGHT
BEGIN:STANDARD
TZNAME:CST
TZOFFSETFROM:-0500
TZOFFSETTO:-0600
DTSTART:19701101T020000
RRULE:FREQ=YEARLY;BYMONTH=11;BYDAY=1SU
END:STANDARD
END:VTIMEZONE
BEGIN:VEVENT
CATEGORIES:Category,Counseling and Psychological Services,Category,Student Life,Location,Cedar Valley,Tag,Disability Awareness Month
DESCRIPTION:Boost your emotional resilience and mental health awareness through interactive activities. Dr. Kim Toynes will present, &quot;Ask About Suicide To Save a Life.&quot; This event is hosted by Dallas College Counseling and Psychological Services (CAPS) and Accessibility Services as part of our Disability Awareness Month events. Location: Cedar Valley Campus, Room A114A143948
DTSTAMP:20260422T181759
DTSTART;TZID=America/Chicago:20251021T130000
DTEND;TZID=America/Chicago:20251021T143000
LOCATION:Cedar Valley
SUMMARY;LANGUAGE=en-us:Empowering Minds: A Path to Well-Being
UID:68870fc508a1542cb44431e006c12f98@www.dallascollege.edu
END:VEVENT
END:VCALENDAR
