BEGIN:VCALENDAR
VERSION:2.0
X-WR-CALNAME:EventsCalendar
CALSCALE:GREGORIAN
BEGIN:VTIMEZONE
TZID:America/Chicago
LAST-MODIFIED:20231222T233358Z
TZURL:https://www.tzurl.org/zoneinfo-outlook/America/Chicago
X-LIC-LOCATION:America/Chicago
BEGIN:DAYLIGHT
TZNAME:CDT
TZOFFSETFROM:-0600
TZOFFSETTO:-0500
DTSTART:19700308T020000
RRULE:FREQ=YEARLY;BYMONTH=3;BYDAY=2SU
END:DAYLIGHT
BEGIN:STANDARD
TZNAME:CST
TZOFFSETFROM:-0500
TZOFFSETTO:-0600
DTSTART:19701101T020000
RRULE:FREQ=YEARLY;BYMONTH=11;BYDAY=1SU
END:STANDARD
END:VTIMEZONE
BEGIN:VEVENT
CATEGORIES:Category,Financial Aid,Location,North Lake,Tag,Trio
DESCRIPTION:It&#039;s time to fill out your FAFSA and get financial aid to help you pay for college. At this event hosted by TRIO, get expert help completing the FAFSA application process step by step.&amp;nbsp; All students are welcome and encouraged to attend. Please register online for the FAFSA Kickoff. Location: North Lake Campus, Room H226144069
DTSTAMP:20260422T132405
DTSTART;TZID=America/Chicago:20251001T113000
DTEND;TZID=America/Chicago:20251001T123000
LOCATION:North Lake
SUMMARY;LANGUAGE=en-us:FAFSA Kickoff
UID:85ebfd4bafa0744917d4831413b4b1ff@www.dallascollege.edu
END:VEVENT
END:VCALENDAR
