BEGIN:VCALENDAR
VERSION:2.0
X-WR-CALNAME:EventsCalendar
CALSCALE:GREGORIAN
BEGIN:VTIMEZONE
TZID:America/Chicago
LAST-MODIFIED:20231222T233358Z
TZURL:https://www.tzurl.org/zoneinfo-outlook/America/Chicago
X-LIC-LOCATION:America/Chicago
BEGIN:DAYLIGHT
TZNAME:CDT
TZOFFSETFROM:-0600
TZOFFSETTO:-0500
DTSTART:19700308T020000
RRULE:FREQ=YEARLY;BYMONTH=3;BYDAY=2SU
END:DAYLIGHT
BEGIN:STANDARD
TZNAME:CST
TZOFFSETFROM:-0500
TZOFFSETTO:-0600
DTSTART:19701101T020000
RRULE:FREQ=YEARLY;BYMONTH=11;BYDAY=1SU
END:STANDARD
END:VTIMEZONE
BEGIN:VEVENT
CATEGORIES:Category,Student Life,Location,North Lake,Tag,Trio
DESCRIPTION:At this event hosted by TRIO, practice real-world budgeting based on your desired career and starting salary. You will have to navigate expenses like rent, loans and transportation &amp;mdash; all while trying to stay within budget. Build practical money skills at this fun, eye-opening event! Please register online for the Financial Reality Fair. Location: North Lake Campus, Room H200 &amp;nbsp;144071
DTSTAMP:20260422T181510
DTSTART;TZID=America/Chicago:20251002T090000
DTEND;TZID=America/Chicago:20251002T140000
LOCATION:North Lake
SUMMARY;LANGUAGE=en-us:Financial Reality Fair
UID:2d923c610dcb52fecb53c00aad0cccb7@www.dallascollege.edu
END:VEVENT
END:VCALENDAR
