BEGIN:VCALENDAR
VERSION:2.0
X-WR-CALNAME:EventsCalendar
CALSCALE:GREGORIAN
BEGIN:VTIMEZONE
TZID:America/Chicago
LAST-MODIFIED:20231222T233358Z
TZURL:https://www.tzurl.org/zoneinfo-outlook/America/Chicago
X-LIC-LOCATION:America/Chicago
BEGIN:DAYLIGHT
TZNAME:CDT
TZOFFSETFROM:-0600
TZOFFSETTO:-0500
DTSTART:19700308T020000
RRULE:FREQ=YEARLY;BYMONTH=3;BYDAY=2SU
END:DAYLIGHT
BEGIN:STANDARD
TZNAME:CST
TZOFFSETFROM:-0500
TZOFFSETTO:-0600
DTSTART:19701101T020000
RRULE:FREQ=YEARLY;BYMONTH=11;BYDAY=1SU
END:STANDARD
END:VTIMEZONE
BEGIN:VEVENT
CATEGORIES:Category,Arts and Culture,Location,Brookhaven,Tag,Theater
DESCRIPTION:Theatre Brookhaven, in proud partnership with The Dallas Puppet Theatre, presents a magical holiday tradition: A Christmas Carol!&amp;nbsp; Join us for a heartwarming reimagining of Dickens&#039; classic tale&amp;mdash;told entirely through the art of puppetry! Featuring marionettes, shadow puppets, rod puppets and more, this enchanting production brings the beloved story to life like you&amp;rsquo;ve never seen it before. All puppet roles are brilliantly performed by talented student artists, showcasing their creativity, skill and holiday spirit. Safe, fun and festive for audiences of all ages, A Christmas Carol is the perfect way to celebrate the season with family and friends. Don&amp;rsquo;t miss this joyful journey through past, present and future&amp;mdash;puppet style! Tickets are free but reservations are highly recommended. To reserve your seats, send an email with the date and time of the performance you would like to attend, with the number of seats you are requesting and the name of your party to: dfries@DallasCollege.edu. Location:&amp;nbsp;Brookhaven Campus, Bldg. C, Room C205 (Black Box Theatre)144101
DTSTAMP:20260422T181510
DTSTART;TZID=America/Chicago:20251204T193000
DTEND;TZID=America/Chicago:20251204T213000
LOCATION:Brookhaven
SUMMARY;LANGUAGE=en-us:Theatre Brookhaven Presents: A Christmas Carol
UID:70628ff6846a2d73eb19078ef749fc77@www.dallascollege.edu
END:VEVENT
BEGIN:VEVENT
CATEGORIES:Category,Arts and Culture,Location,Brookhaven,Tag,Theater
DESCRIPTION:Theatre Brookhaven, in proud partnership with The Dallas Puppet Theatre, presents a magical holiday tradition: A Christmas Carol!&amp;nbsp; Join us for a heartwarming reimagining of Dickens&#039; classic tale&amp;mdash;told entirely through the art of puppetry! Featuring marionettes, shadow puppets, rod puppets and more, this enchanting production brings the beloved story to life like you&amp;rsquo;ve never seen it before. All puppet roles are brilliantly performed by talented student artists, showcasing their creativity, skill and holiday spirit. Safe, fun and festive for audiences of all ages, A Christmas Carol is the perfect way to celebrate the season with family and friends. Don&amp;rsquo;t miss this joyful journey through past, present and future&amp;mdash;puppet style! Tickets are free but reservations are highly recommended. To reserve your seats, send an email with the date and time of the performance you would like to attend, with the number of seats you are requesting and the name of your party to: dfries@DallasCollege.edu. Location:&amp;nbsp;Brookhaven Campus, Bldg. C, Room C205 (Black Box Theatre)144101
DTSTAMP:20260422T181510
DTSTART;TZID=America/Chicago:20251205T193000
DTEND;TZID=America/Chicago:20251205T213000
LOCATION:Brookhaven
SUMMARY;LANGUAGE=en-us:Theatre Brookhaven Presents: A Christmas Carol
UID:008f58bed0cce34c96f72a7b0ee59b80@www.dallascollege.edu
END:VEVENT
BEGIN:VEVENT
CATEGORIES:Category,Arts and Culture,Location,Brookhaven,Tag,Theater
DESCRIPTION:Theatre Brookhaven, in proud partnership with The Dallas Puppet Theatre, presents a magical holiday tradition: A Christmas Carol!&amp;nbsp; Join us for a heartwarming reimagining of Dickens&#039; classic tale&amp;mdash;told entirely through the art of puppetry! Featuring marionettes, shadow puppets, rod puppets and more, this enchanting production brings the beloved story to life like you&amp;rsquo;ve never seen it before. All puppet roles are brilliantly performed by talented student artists, showcasing their creativity, skill and holiday spirit. Safe, fun and festive for audiences of all ages, A Christmas Carol is the perfect way to celebrate the season with family and friends. Don&amp;rsquo;t miss this joyful journey through past, present and future&amp;mdash;puppet style! Tickets are free but reservations are highly recommended. To reserve your seats, send an email with the date and time of the performance you would like to attend, with the number of seats you are requesting and the name of your party to: dfries@DallasCollege.edu. Location:&amp;nbsp;Brookhaven Campus, Bldg. C, Room C205 (Black Box Theatre)144101
DTSTAMP:20260422T181510
DTSTART;TZID=America/Chicago:20251206T193000
DTEND;TZID=America/Chicago:20251206T213000
LOCATION:Brookhaven
SUMMARY;LANGUAGE=en-us:Theatre Brookhaven Presents: A Christmas Carol
UID:14e27951577bcf2d88500072411bf4f9@www.dallascollege.edu
END:VEVENT
END:VCALENDAR
