BEGIN:VCALENDAR
VERSION:2.0
X-WR-CALNAME:EventsCalendar
CALSCALE:GREGORIAN
BEGIN:VTIMEZONE
TZID:America/Chicago
LAST-MODIFIED:20231222T233358Z
TZURL:https://www.tzurl.org/zoneinfo-outlook/America/Chicago
X-LIC-LOCATION:America/Chicago
BEGIN:DAYLIGHT
TZNAME:CDT
TZOFFSETFROM:-0600
TZOFFSETTO:-0500
DTSTART:19700308T020000
RRULE:FREQ=YEARLY;BYMONTH=3;BYDAY=2SU
END:DAYLIGHT
BEGIN:STANDARD
TZNAME:CST
TZOFFSETFROM:-0500
TZOFFSETTO:-0600
DTSTART:19701101T020000
RRULE:FREQ=YEARLY;BYMONTH=11;BYDAY=1SU
END:STANDARD
END:VTIMEZONE
BEGIN:VEVENT
CATEGORIES:Category,Arts and Culture,Location,Brookhaven,Tag,Theater
DESCRIPTION:Call for Auditions: A Puppet Christmas CarolPresented by Theatre Brookhaven in partnership with Dallas Puppet Theatre We&amp;rsquo;re casting student performers for an exciting and imaginative production of A Puppet Christmas Carol&amp;mdash;a festive retelling of the Dickens classic, brought to life through a variety of puppetry styles including marionettes, shadow puppets, rod puppets, and more! All roles will be performed using puppets&amp;mdash;no prior puppetry experience required! We&amp;rsquo;re looking for enthusiastic, creative students who are ready to learn, collaborate and bring characters to life from behind the scenes. Open to students of all experience levels (You do not have to be a current Dallas College student to audition)This is a safe, supportive and fun opportunity to explore the world of puppetry, build performance skills and be part of a magical holiday tradition for audiences of all ages. Let your hands do the acting and help us tell a timeless story&amp;mdash;puppet style! Location: Brookhaven Campus, Bldg. C, Room C205 (Black Box Theatre)144107
DTSTAMP:20260422T183440
DTSTART;TZID=America/Chicago:20251013T190000
DTEND;TZID=America/Chicago:20251013T210000
LOCATION:Brookhaven
SUMMARY;LANGUAGE=en-us:AUDITIONS! A Puppet Christmas Carol
UID:df74fbe6eef53b4b13b64dec15c89401@www.dallascollege.edu
END:VEVENT
BEGIN:VEVENT
CATEGORIES:Category,Arts and Culture,Location,Brookhaven,Tag,Theater
DESCRIPTION:Call for Auditions: A Puppet Christmas CarolPresented by Theatre Brookhaven in partnership with Dallas Puppet Theatre We&amp;rsquo;re casting student performers for an exciting and imaginative production of A Puppet Christmas Carol&amp;mdash;a festive retelling of the Dickens classic, brought to life through a variety of puppetry styles including marionettes, shadow puppets, rod puppets, and more! All roles will be performed using puppets&amp;mdash;no prior puppetry experience required! We&amp;rsquo;re looking for enthusiastic, creative students who are ready to learn, collaborate and bring characters to life from behind the scenes. Open to students of all experience levels (You do not have to be a current Dallas College student to audition)This is a safe, supportive and fun opportunity to explore the world of puppetry, build performance skills and be part of a magical holiday tradition for audiences of all ages. Let your hands do the acting and help us tell a timeless story&amp;mdash;puppet style! Location: Brookhaven Campus, Bldg. C, Room C205 (Black Box Theatre)144107
DTSTAMP:20260422T183440
DTSTART;TZID=America/Chicago:20251014T190000
DTEND;TZID=America/Chicago:20251014T210000
LOCATION:Brookhaven
SUMMARY;LANGUAGE=en-us:AUDITIONS! A Puppet Christmas Carol
UID:33395d6e7304b8a7eebfb046ce5d3aa9@www.dallascollege.edu
END:VEVENT
END:VCALENDAR
