BEGIN:VCALENDAR
VERSION:2.0
X-WR-CALNAME:EventsCalendar
CALSCALE:GREGORIAN
BEGIN:VTIMEZONE
TZID:America/Chicago
LAST-MODIFIED:20231222T233358Z
TZURL:https://www.tzurl.org/zoneinfo-outlook/America/Chicago
X-LIC-LOCATION:America/Chicago
BEGIN:DAYLIGHT
TZNAME:CDT
TZOFFSETFROM:-0600
TZOFFSETTO:-0500
DTSTART:19700308T020000
RRULE:FREQ=YEARLY;BYMONTH=3;BYDAY=2SU
END:DAYLIGHT
BEGIN:STANDARD
TZNAME:CST
TZOFFSETFROM:-0500
TZOFFSETTO:-0600
DTSTART:19701101T020000
RRULE:FREQ=YEARLY;BYMONTH=11;BYDAY=1SU
END:STANDARD
END:VTIMEZONE
BEGIN:VEVENT
CATEGORIES:Category,Community,Category,Other,Location,Mountain View,Tag,School of ETMS
DESCRIPTION:Look through our telescopes and experience the wonder of the cosmos! Get close-up views of the sun, planets, stars, galaxies and more. Learn about nature and our amazing planet. All ages welcome. Bring your family and friends! This is a free event. It will be cancelled for cloudy or bad weather. Location: Mountain View Campus, northeast side, near the observatory dome144130
DTSTAMP:20260422T181806
DTSTART;TZID=America/Chicago:20251009T170000
DTEND;TZID=America/Chicago:20251009T213000
LOCATION:Mountain View
SUMMARY;LANGUAGE=en-us:The Unforgettable Journey to the Stars
UID:93c8dd4963bab7bbe7b0915f82860320@www.dallascollege.edu
END:VEVENT
END:VCALENDAR
