BEGIN:VCALENDAR
VERSION:2.0
X-WR-CALNAME:EventsCalendar
CALSCALE:GREGORIAN
BEGIN:VTIMEZONE
TZID:America/Chicago
LAST-MODIFIED:20231222T233358Z
TZURL:https://www.tzurl.org/zoneinfo-outlook/America/Chicago
X-LIC-LOCATION:America/Chicago
BEGIN:DAYLIGHT
TZNAME:CDT
TZOFFSETFROM:-0600
TZOFFSETTO:-0500
DTSTART:19700308T020000
RRULE:FREQ=YEARLY;BYMONTH=3;BYDAY=2SU
END:DAYLIGHT
BEGIN:STANDARD
TZNAME:CST
TZOFFSETFROM:-0500
TZOFFSETTO:-0600
DTSTART:19701101T020000
RRULE:FREQ=YEARLY;BYMONTH=11;BYDAY=1SU
END:STANDARD
END:VTIMEZONE
BEGIN:VEVENT
CATEGORIES:Category,Other,Location,Cedar Valley,Tag,Military-Connected Services
DESCRIPTION:Get disability claims assistance from the Texas Veterans Commission. We&amp;rsquo;ll be available to help you with eligibility, documentation and appeal procedures, ensuring you receive the benefits you deserve! Spouses and dependents are encouraged to invite their veteran family members who need disability claims assistance to attend. Please register to attend the Disability Workshop. Location: Cedar Valley Campus, Building N, Room 1051144186
DTSTAMP:20260423T023759
DTSTART;TZID=America/Chicago:20251017T090000
DTEND;TZID=America/Chicago:20251017T150000
LOCATION:Cedar Valley
SUMMARY;LANGUAGE=en-us:Military-Connected Services and Texas Veterans Commission Disability Workshop
UID:f2bb632f6193d4cb1457bf970c60171c@www.dallascollege.edu
END:VEVENT
END:VCALENDAR
