BEGIN:VCALENDAR
VERSION:2.0
X-WR-CALNAME:EventsCalendar
CALSCALE:GREGORIAN
BEGIN:VTIMEZONE
TZID:America/Chicago
LAST-MODIFIED:20231222T233358Z
TZURL:https://www.tzurl.org/zoneinfo-outlook/America/Chicago
X-LIC-LOCATION:America/Chicago
BEGIN:DAYLIGHT
TZNAME:CDT
TZOFFSETFROM:-0600
TZOFFSETTO:-0500
DTSTART:19700308T020000
RRULE:FREQ=YEARLY;BYMONTH=3;BYDAY=2SU
END:DAYLIGHT
BEGIN:STANDARD
TZNAME:CST
TZOFFSETFROM:-0500
TZOFFSETTO:-0600
DTSTART:19701101T020000
RRULE:FREQ=YEARLY;BYMONTH=11;BYDAY=1SU
END:STANDARD
END:VTIMEZONE
BEGIN:VEVENT
CATEGORIES:Category,Other,Location,Online,Tag,School of Health Sciences
DESCRIPTION:Have you ever thought about becoming a medical front office assistant? Are you curious about what an office assistant does? Have you ever wondered about the difference you can make in others&#039; lives? Join us online to learn more about our in-demand Medical Front Office Assistant program. During the event, we provide program information, discuss the application process and host a Q&amp;amp;A session. Join this virtual event on Microsoft Teams.144199
DTSTAMP:20260423T030534
DTSTART;TZID=America/Chicago:20251022T180000
DTEND;TZID=America/Chicago:20251022T190000
LOCATION:Online
SUMMARY;LANGUAGE=en-us:Medical Front Office Assistant Live
UID:c8f5b31ce2d1a9f6eb58a7ce4cd3cb00@www.dallascollege.edu
END:VEVENT
END:VCALENDAR
