BEGIN:VCALENDAR
VERSION:2.0
X-WR-CALNAME:EventsCalendar
CALSCALE:GREGORIAN
BEGIN:VTIMEZONE
TZID:America/Chicago
LAST-MODIFIED:20231222T233358Z
TZURL:https://www.tzurl.org/zoneinfo-outlook/America/Chicago
X-LIC-LOCATION:America/Chicago
BEGIN:DAYLIGHT
TZNAME:CDT
TZOFFSETFROM:-0600
TZOFFSETTO:-0500
DTSTART:19700308T020000
RRULE:FREQ=YEARLY;BYMONTH=3;BYDAY=2SU
END:DAYLIGHT
BEGIN:STANDARD
TZNAME:CST
TZOFFSETFROM:-0500
TZOFFSETTO:-0600
DTSTART:19701101T020000
RRULE:FREQ=YEARLY;BYMONTH=11;BYDAY=1SU
END:STANDARD
END:VTIMEZONE
BEGIN:VEVENT
CATEGORIES:Category,Student Life,Location,Cedar Valley,Tag,Hand In Hand (Foster Care),Tag,Intercultural/Global Events ,Tag,Support Programs,Tag,Male Achievement Program
DESCRIPTION:Join us for the fourth annual Student Summit, a day of connection, celebration and empowerment. This is a day to honor the brilliance, resilience and radiant joy of Dallas College students. Day at a Glance: Educational workshops Professional panel &quot;Brunch to Ballroom&quot; with IGSE Resource fair Breakfast and lunch provided to all attendees All students are welcome and encouraged to attend. Please register online for the Student Summit. Location: Cedar Valley Campus, Building N, Room 1051 Transportation will be provided from all campuses. Hosted by Dallas College Support Programs and Intercultural and Global Student Engagement144209
DTSTAMP:20260422T163742
DTSTART;TZID=America/Chicago:20251023T090000
DTEND;TZID=America/Chicago:20251023T143000
LOCATION:Cedar Valley
SUMMARY;LANGUAGE=en-us:Let the Light In: A Celebration of Student Joy
UID:375a654d9eead5131cdab8ffea2dfd81@www.dallascollege.edu
END:VEVENT
END:VCALENDAR
