BEGIN:VCALENDAR
VERSION:2.0
X-WR-CALNAME:EventsCalendar
CALSCALE:GREGORIAN
BEGIN:VTIMEZONE
TZID:America/Chicago
LAST-MODIFIED:20231222T233358Z
TZURL:https://www.tzurl.org/zoneinfo-outlook/America/Chicago
X-LIC-LOCATION:America/Chicago
BEGIN:DAYLIGHT
TZNAME:CDT
TZOFFSETFROM:-0600
TZOFFSETTO:-0500
DTSTART:19700308T020000
RRULE:FREQ=YEARLY;BYMONTH=3;BYDAY=2SU
END:DAYLIGHT
BEGIN:STANDARD
TZNAME:CST
TZOFFSETFROM:-0500
TZOFFSETTO:-0600
DTSTART:19701101T020000
RRULE:FREQ=YEARLY;BYMONTH=11;BYDAY=1SU
END:STANDARD
END:VTIMEZONE
BEGIN:VEVENT
CATEGORIES:Category,Financial Aid,Category,Other,Location,Online
DESCRIPTION:Since 2017, the Lone Star Corvette Club has awarded $9,000 in scholarships. Apply by Nov. 1 by submitting your general scholarship application. Eligibility Requirements: Must major in Automotive Technology or Auto Body Technology Minimum GPA of 2.5 Enrolled in at least six credit hours during the award period Completed at least 12 credit hours at Dallas College before the award period Essay required on the general scholarship application 144216
DTSTAMP:20260422T202440
DTSTART;TZID=America/Chicago:20251101T000000
DTEND;TZID=America/Chicago:20251101T235900
LOCATION:Online
SUMMARY;LANGUAGE=en-us:Application Deadline for Lone Star Corvette Club Scholarship
UID:2db74a144f0794a40f8b3e335b8d6b8c@www.dallascollege.edu
END:VEVENT
END:VCALENDAR
