BEGIN:VCALENDAR
VERSION:2.0
X-WR-CALNAME:EventsCalendar
CALSCALE:GREGORIAN
BEGIN:VTIMEZONE
TZID:America/Chicago
LAST-MODIFIED:20231222T233358Z
TZURL:https://www.tzurl.org/zoneinfo-outlook/America/Chicago
X-LIC-LOCATION:America/Chicago
BEGIN:DAYLIGHT
TZNAME:CDT
TZOFFSETFROM:-0600
TZOFFSETTO:-0500
DTSTART:19700308T020000
RRULE:FREQ=YEARLY;BYMONTH=3;BYDAY=2SU
END:DAYLIGHT
BEGIN:STANDARD
TZNAME:CST
TZOFFSETFROM:-0500
TZOFFSETTO:-0600
DTSTART:19701101T020000
RRULE:FREQ=YEARLY;BYMONTH=11;BYDAY=1SU
END:STANDARD
END:VTIMEZONE
BEGIN:VEVENT
CATEGORIES:Category,Special Events,Location,Cedar Valley,Location,Eastfield,Location,El Centro,Tag,Learning Commons 
DESCRIPTION:Students will set exciting goals, get daily reminder boosts, and reflect on their progress with purpose. Location: El Centro - B200 Eastfield - L200 Cedar Valley - C104148237
DTSTAMP:20260422T181420
DTSTART;TZID=America/Chicago:20251009T110000
DTEND;TZID=America/Chicago:20251009T120000
LOCATION:Cedar Valley, Eastfield, El Centro
SUMMARY;LANGUAGE=en-us:Connected Through Our Stories: Vision Board Creation
UID:9ef2f81e20fb76305e45995e1895ad98@www.dallascollege.edu
END:VEVENT
END:VCALENDAR
