BEGIN:VCALENDAR
VERSION:2.0
X-WR-CALNAME:EventsCalendar
CALSCALE:GREGORIAN
BEGIN:VTIMEZONE
TZID:America/Chicago
LAST-MODIFIED:20231222T233358Z
TZURL:https://www.tzurl.org/zoneinfo-outlook/America/Chicago
X-LIC-LOCATION:America/Chicago
BEGIN:DAYLIGHT
TZNAME:CDT
TZOFFSETFROM:-0600
TZOFFSETTO:-0500
DTSTART:19700308T020000
RRULE:FREQ=YEARLY;BYMONTH=3;BYDAY=2SU
END:DAYLIGHT
BEGIN:STANDARD
TZNAME:CST
TZOFFSETFROM:-0500
TZOFFSETTO:-0600
DTSTART:19701101T020000
RRULE:FREQ=YEARLY;BYMONTH=11;BYDAY=1SU
END:STANDARD
END:VTIMEZONE
BEGIN:VEVENT
CATEGORIES:Category,Board of Trustees,Location,Administrative Office
DESCRIPTION:The Board of Trustees will hold an education workforce committee meeting on Oct. 7, 2025. October 7, 2025 - Education Workforce Committee Meeting Agenda (PDF - 169KB) Meeting Location:&amp;nbsp; Room #036 View the Board of Trustees website. Agendas, captioned video, and transcripts for past Dallas College board meetings.148300
DTSTAMP:20260422T181944
DTSTART;TZID=America/Chicago:20251007T130000
DTEND;TZID=America/Chicago:20251007T153000
LOCATION:Administrative Office
SUMMARY;LANGUAGE=en-us:October Board Meeting - Education Workforce Committee
UID:e6571b151e6a737ff292737760cb7aa6@www.dallascollege.edu
END:VEVENT
END:VCALENDAR
