BEGIN:VCALENDAR
VERSION:2.0
X-WR-CALNAME:EventsCalendar
CALSCALE:GREGORIAN
BEGIN:VTIMEZONE
TZID:America/Chicago
LAST-MODIFIED:20231222T233358Z
TZURL:https://www.tzurl.org/zoneinfo-outlook/America/Chicago
X-LIC-LOCATION:America/Chicago
BEGIN:DAYLIGHT
TZNAME:CDT
TZOFFSETFROM:-0600
TZOFFSETTO:-0500
DTSTART:19700308T020000
RRULE:FREQ=YEARLY;BYMONTH=3;BYDAY=2SU
END:DAYLIGHT
BEGIN:STANDARD
TZNAME:CST
TZOFFSETFROM:-0500
TZOFFSETTO:-0600
DTSTART:19701101T020000
RRULE:FREQ=YEARLY;BYMONTH=11;BYDAY=1SU
END:STANDARD
END:VTIMEZONE
BEGIN:VEVENT
CATEGORIES:Category,Board of Trustees,Location,Administrative Office,Tag,Board of Trustees
DESCRIPTION:The Board of Trustees will hold a finance committee meeting on Oct. 7, 2025. October 7, 2025 - Finance Committee Meeting Agenda (PDF - 2MB) Meeting Location:&amp;nbsp; Room #036, Lower Level View the Board of Trustees website. Agendas, captioned video, and transcripts for past Dallas College board meetings. &amp;nbsp;148302
DTSTAMP:20260422T200308
DTSTART;TZID=America/Chicago:20251007T103000
DTEND;TZID=America/Chicago:20251007T113000
LOCATION:Administrative Office
SUMMARY;LANGUAGE=en-us:October Board Meeting - Finance Committee
UID:6f95685d413fae33b26e71a7ab4df3e9@www.dallascollege.edu
END:VEVENT
END:VCALENDAR
