BEGIN:VCALENDAR
VERSION:2.0
X-WR-CALNAME:EventsCalendar
CALSCALE:GREGORIAN
BEGIN:VTIMEZONE
TZID:America/Chicago
LAST-MODIFIED:20231222T233358Z
TZURL:https://www.tzurl.org/zoneinfo-outlook/America/Chicago
X-LIC-LOCATION:America/Chicago
BEGIN:DAYLIGHT
TZNAME:CDT
TZOFFSETFROM:-0600
TZOFFSETTO:-0500
DTSTART:19700308T020000
RRULE:FREQ=YEARLY;BYMONTH=3;BYDAY=2SU
END:DAYLIGHT
BEGIN:STANDARD
TZNAME:CST
TZOFFSETFROM:-0500
TZOFFSETTO:-0600
DTSTART:19701101T020000
RRULE:FREQ=YEARLY;BYMONTH=11;BYDAY=1SU
END:STANDARD
END:VTIMEZONE
BEGIN:VEVENT
CATEGORIES:Category,Seminars and Speakers,Location,Online,Tag,Community Relations and Solutions
DESCRIPTION:Are you a small business owner, certified vendor, nonprofit leader or community-based organization interested in doing business with Dallas College? Join us for a dynamic virtual session designed to help partners explore supplier engagement opportunities and assess readiness for deeper collaboration. Knowledge Expert: Crystal Alba, Dallas College Managing Director of Supplier Development Join this virtual event on Microsoft Teams.&amp;nbsp; &amp;nbsp; &amp;nbsp; &amp;nbsp; &amp;nbsp; &amp;nbsp; &amp;nbsp; &amp;nbsp; &amp;nbsp; &amp;nbsp; &amp;nbsp; &amp;nbsp; &amp;nbsp; &amp;nbsp; &amp;nbsp; &amp;nbsp; &amp;nbsp;148350
DTSTAMP:20260422T182554
DTSTART;TZID=America/Chicago:20251021T093000
DTEND;TZID=America/Chicago:20251021T110000
LOCATION:Online
SUMMARY;LANGUAGE=en-us:Supplier Readiness: Exploring Engagement With Dallas College
UID:d49d48a6bd328a3acca98c46f1adccb2@www.dallascollege.edu
END:VEVENT
END:VCALENDAR
